BEGIN:VCALENDAR
VERSION:2.0
PRODID:-//Region 5+ Mental Health - ECPv6.15.20//NONSGML v1.0//EN
CALSCALE:GREGORIAN
METHOD:PUBLISH
X-ORIGINAL-URL:https://www.region5mentalhealth.com
X-WR-CALDESC:Events for Region 5+ Mental Health
REFRESH-INTERVAL;VALUE=DURATION:PT1H
X-Robots-Tag:noindex
X-PUBLISHED-TTL:PT1H
BEGIN:VTIMEZONE
TZID:America/Chicago
BEGIN:DAYLIGHT
TZOFFSETFROM:-0600
TZOFFSETTO:-0500
TZNAME:CDT
DTSTART:20240310T080000
END:DAYLIGHT
BEGIN:STANDARD
TZOFFSETFROM:-0500
TZOFFSETTO:-0600
TZNAME:CST
DTSTART:20241103T070000
END:STANDARD
BEGIN:DAYLIGHT
TZOFFSETFROM:-0600
TZOFFSETTO:-0500
TZNAME:CDT
DTSTART:20250309T080000
END:DAYLIGHT
BEGIN:STANDARD
TZOFFSETFROM:-0500
TZOFFSETTO:-0600
TZNAME:CST
DTSTART:20251102T070000
END:STANDARD
BEGIN:DAYLIGHT
TZOFFSETFROM:-0600
TZOFFSETTO:-0500
TZNAME:CDT
DTSTART:20260308T080000
END:DAYLIGHT
BEGIN:STANDARD
TZOFFSETFROM:-0500
TZOFFSETTO:-0600
TZNAME:CST
DTSTART:20261101T070000
END:STANDARD
END:VTIMEZONE
BEGIN:VEVENT
DTSTART;TZID=America/Chicago:20250522T090000
DTEND;TZID=America/Chicago:20250522T150000
DTSTAMP:20260419T155842
CREATED:20250312T134826Z
LAST-MODIFIED:20250312T134826Z
UID:10020151-1747904400-1747926000@www.region5mentalhealth.com
SUMMARY:Northern MN Suicide Prevention Training
DESCRIPTION:The Northern MN Suicide Prevention Regional Coordination annual FREE suicide prevention training is scheduled for Thursday\, May 22. This year it will be in Bemidji at the SouthShore Hotel on Lake Bemidji (formerly Hampton Inn). Please see the attached flyer for more information\, as well as share with those who may be interested in attending. \nPlease contact Meghann Levitt at meghann.levitt@carltoncountymn.gov with questions or special accommodations. \nPlease register by 5/9/25 at Northern MN Suicide Prevention 2025 Training Registration Survey \nNorther MN Suicide Prevention Training 2025
URL:https://www.region5mentalhealth.com/event/northern-mn-suicide-prevention-training/
LOCATION:SouthShore Hotel on Lake Bemidji\, 1019 Paul Bunyan Dr S\, Bemidji\, MN\, 56601\, United States
END:VEVENT
END:VCALENDAR