BEGIN:VCALENDAR
VERSION:2.0
PRODID:-//Region 5+ Mental Health - ECPv6.15.20//NONSGML v1.0//EN
CALSCALE:GREGORIAN
METHOD:PUBLISH
X-ORIGINAL-URL:https://www.region5mentalhealth.com
X-WR-CALDESC:Events for Region 5+ Mental Health
REFRESH-INTERVAL;VALUE=DURATION:PT1H
X-Robots-Tag:noindex
X-PUBLISHED-TTL:PT1H
BEGIN:VTIMEZONE
TZID:America/Chicago
BEGIN:DAYLIGHT
TZOFFSETFROM:-0600
TZOFFSETTO:-0500
TZNAME:CDT
DTSTART:20270314T080000
END:DAYLIGHT
BEGIN:STANDARD
TZOFFSETFROM:-0500
TZOFFSETTO:-0600
TZNAME:CST
DTSTART:20271107T070000
END:STANDARD
BEGIN:DAYLIGHT
TZOFFSETFROM:-0600
TZOFFSETTO:-0500
TZNAME:CDT
DTSTART:20280312T080000
END:DAYLIGHT
BEGIN:STANDARD
TZOFFSETFROM:-0500
TZOFFSETTO:-0600
TZNAME:CST
DTSTART:20281105T070000
END:STANDARD
BEGIN:DAYLIGHT
TZOFFSETFROM:-0600
TZOFFSETTO:-0500
TZNAME:CDT
DTSTART:20290311T080000
END:DAYLIGHT
BEGIN:STANDARD
TZOFFSETFROM:-0500
TZOFFSETTO:-0600
TZNAME:CST
DTSTART:20291104T070000
END:STANDARD
END:VTIMEZONE
BEGIN:VEVENT
DTSTART;TZID=America/Chicago:20281107T090000
DTEND;TZID=America/Chicago:20281107T150000
DTSTAMP:20260420T043401
CREATED:20231228T221526Z
LAST-MODIFIED:20231228T222144Z
UID:10015724-1857200400-1857222000@www.region5mentalhealth.com
SUMMARY:Region V+ AMHI Executive Committee Meetings
DESCRIPTION:Region V+ AMHI Executive Committee meets monthly on the first Tuesday of each month from 9am-3pm\, if otherwise not stated. Meetings are held hybrid with options to join virtually via Microsoft Teams or Webex and in person at Sourcewell. \nSourcewell\n202 12th St NE\nStaples\, MN 56479 \nFor more information on meetings please reach out to Danielle Wadsworth\, Region V+ AMHI Coordinator\, at danielle.wadsworth@sourcewell-mn.gov.
URL:https://www.region5mentalhealth.com/event/region-v-amhi-executive-committee-meetings/2028-11-07/
LOCATION:Sourcewell\, 202 12th Street NE\, Staples\, MN\, 56479\, United States
ORGANIZER;CN="Danielle Wadsworth":MAILTO:danielle.wadsworth@sourcewell-mn.gov
END:VEVENT
BEGIN:VEVENT
DTSTART;TZID=America/Chicago:20281205T090000
DTEND;TZID=America/Chicago:20281205T150000
DTSTAMP:20260420T043401
CREATED:20231228T221526Z
LAST-MODIFIED:20231228T222144Z
UID:10015725-1859619600-1859641200@www.region5mentalhealth.com
SUMMARY:Region V+ AMHI Executive Committee Meetings
DESCRIPTION:Region V+ AMHI Executive Committee meets monthly on the first Tuesday of each month from 9am-3pm\, if otherwise not stated. Meetings are held hybrid with options to join virtually via Microsoft Teams or Webex and in person at Sourcewell. \nSourcewell\n202 12th St NE\nStaples\, MN 56479 \nFor more information on meetings please reach out to Danielle Wadsworth\, Region V+ AMHI Coordinator\, at danielle.wadsworth@sourcewell-mn.gov.
URL:https://www.region5mentalhealth.com/event/region-v-amhi-executive-committee-meetings/2028-12-05/
LOCATION:Sourcewell\, 202 12th Street NE\, Staples\, MN\, 56479\, United States
ORGANIZER;CN="Danielle Wadsworth":MAILTO:danielle.wadsworth@sourcewell-mn.gov
END:VEVENT
END:VCALENDAR