BEGIN:VCALENDAR
VERSION:2.0
PRODID:-//Region 5+ Mental Health - ECPv6.15.20//NONSGML v1.0//EN
CALSCALE:GREGORIAN
METHOD:PUBLISH
X-ORIGINAL-URL:https://www.region5mentalhealth.com
X-WR-CALDESC:Events for Region 5+ Mental Health
REFRESH-INTERVAL;VALUE=DURATION:PT1H
X-Robots-Tag:noindex
X-PUBLISHED-TTL:PT1H
BEGIN:VTIMEZONE
TZID:America/Chicago
BEGIN:DAYLIGHT
TZOFFSETFROM:-0600
TZOFFSETTO:-0500
TZNAME:CDT
DTSTART:20240310T080000
END:DAYLIGHT
BEGIN:STANDARD
TZOFFSETFROM:-0500
TZOFFSETTO:-0600
TZNAME:CST
DTSTART:20241103T070000
END:STANDARD
BEGIN:DAYLIGHT
TZOFFSETFROM:-0600
TZOFFSETTO:-0500
TZNAME:CDT
DTSTART:20250309T080000
END:DAYLIGHT
BEGIN:STANDARD
TZOFFSETFROM:-0500
TZOFFSETTO:-0600
TZNAME:CST
DTSTART:20251102T070000
END:STANDARD
BEGIN:DAYLIGHT
TZOFFSETFROM:-0600
TZOFFSETTO:-0500
TZNAME:CDT
DTSTART:20260308T080000
END:DAYLIGHT
BEGIN:STANDARD
TZOFFSETFROM:-0500
TZOFFSETTO:-0600
TZNAME:CST
DTSTART:20261101T070000
END:STANDARD
END:VTIMEZONE
BEGIN:VEVENT
DTSTART;TZID=America/Chicago:20250422T170000
DTEND;TZID=America/Chicago:20250422T190000
DTSTAMP:20260419T082238
CREATED:20250311T131119Z
LAST-MODIFIED:20250311T131119Z
UID:10020147-1745341200-1745348400@www.region5mentalhealth.com
SUMMARY:Psychological First Aid Training
DESCRIPTION:Morrison County is excited to offer a Psychological First Aid Training on April 22\, 2025\, from 5:00 PM – 7:00 PM at the Morrison County Government Center—free of charge! This training equips participants with practical strategies to support individuals during crises\, promote resilience\, and strengthen our community’s response to stress and trauma. \nSpace is limited\, so we encourage early registration! \nMorrison County Psychological First Aid Training Flyer \nPlease register here Psychological First Aid
URL:https://www.region5mentalhealth.com/event/psychological-first-aid-training/
LOCATION:Morrison County Government Center\, 213 1st Ave SE\, Little Falls\, MN\, 56345\, United States
END:VEVENT
END:VCALENDAR