BEGIN:VCALENDAR
VERSION:2.0
PRODID:-//Region 5+ Mental Health - ECPv6.15.20//NONSGML v1.0//EN
CALSCALE:GREGORIAN
METHOD:PUBLISH
X-WR-CALNAME:Region 5+ Mental Health
X-ORIGINAL-URL:https://www.region5mentalhealth.com
X-WR-CALDESC:Events for Region 5+ Mental Health
REFRESH-INTERVAL;VALUE=DURATION:PT1H
X-Robots-Tag:noindex
X-PUBLISHED-TTL:PT1H
BEGIN:VTIMEZONE
TZID:America/Chicago
BEGIN:DAYLIGHT
TZOFFSETFROM:-0600
TZOFFSETTO:-0500
TZNAME:CDT
DTSTART:20240310T080000
END:DAYLIGHT
BEGIN:STANDARD
TZOFFSETFROM:-0500
TZOFFSETTO:-0600
TZNAME:CST
DTSTART:20241103T070000
END:STANDARD
BEGIN:DAYLIGHT
TZOFFSETFROM:-0600
TZOFFSETTO:-0500
TZNAME:CDT
DTSTART:20250309T080000
END:DAYLIGHT
BEGIN:STANDARD
TZOFFSETFROM:-0500
TZOFFSETTO:-0600
TZNAME:CST
DTSTART:20251102T070000
END:STANDARD
BEGIN:DAYLIGHT
TZOFFSETFROM:-0600
TZOFFSETTO:-0500
TZNAME:CDT
DTSTART:20260308T080000
END:DAYLIGHT
BEGIN:STANDARD
TZOFFSETFROM:-0500
TZOFFSETTO:-0600
TZNAME:CST
DTSTART:20261101T070000
END:STANDARD
END:VTIMEZONE
BEGIN:VEVENT
DTSTART;TZID=America/Chicago:20250304T180000
DTEND;TZID=America/Chicago:20250304T200000
DTSTAMP:20260420T065004
CREATED:20250213T212640Z
LAST-MODIFIED:20250213T212640Z
UID:10020119-1741111200-1741118400@www.region5mentalhealth.com
SUMMARY:Black Youths Suicide Vigil at Capitol Hill
DESCRIPTION:NAMI Minnesota is so honored to be able to host a vigil for Black youths who have died by suicide. This event was spearheaded and largely coordinated by MJ Consultants\, LLC\, and Triasia Yun-Robinson (Director and Co-Owner of Healing & Restoration Consulting\, LLC). \nThis event will be held at the Capitol Mall in St. Paul from 6:00 to 8:00 PM on Tuesday\, March 4th. As some may know\, March 4th is a symbolic date\, marking new beginnings and encouraging folks to open their hearts and minds to unity and racial reconciliation. \nWe will march\, have inspiring speakers\, light candles\, and enjoy hot beverages and community. On this day\, we encourage you to stand with us\, lean on us\, and be with us.
URL:https://www.region5mentalhealth.com/event/black-youths-suicide-vigil-at-capitol-hill/
LOCATION:Minnesota Capitol\, 75 Rev. Dr. Martin Luther King\, Jr. Blvd\, Saint Paul\, MN\, 55155\, United States
END:VEVENT
END:VCALENDAR