BEGIN:VCALENDAR
VERSION:2.0
PRODID:-//Region 5+ Mental Health - ECPv6.15.20//NONSGML v1.0//EN
CALSCALE:GREGORIAN
METHOD:PUBLISH
X-ORIGINAL-URL:https://www.region5mentalhealth.com
X-WR-CALDESC:Events for Region 5+ Mental Health
REFRESH-INTERVAL;VALUE=DURATION:PT1H
X-Robots-Tag:noindex
X-PUBLISHED-TTL:PT1H
BEGIN:VTIMEZONE
TZID:America/Chicago
BEGIN:DAYLIGHT
TZOFFSETFROM:-0600
TZOFFSETTO:-0500
TZNAME:CDT
DTSTART:20240310T080000
END:DAYLIGHT
BEGIN:STANDARD
TZOFFSETFROM:-0500
TZOFFSETTO:-0600
TZNAME:CST
DTSTART:20241103T070000
END:STANDARD
BEGIN:DAYLIGHT
TZOFFSETFROM:-0600
TZOFFSETTO:-0500
TZNAME:CDT
DTSTART:20250309T080000
END:DAYLIGHT
BEGIN:STANDARD
TZOFFSETFROM:-0500
TZOFFSETTO:-0600
TZNAME:CST
DTSTART:20251102T070000
END:STANDARD
BEGIN:DAYLIGHT
TZOFFSETFROM:-0600
TZOFFSETTO:-0500
TZNAME:CDT
DTSTART:20260308T080000
END:DAYLIGHT
BEGIN:STANDARD
TZOFFSETFROM:-0500
TZOFFSETTO:-0600
TZNAME:CST
DTSTART:20261101T070000
END:STANDARD
END:VTIMEZONE
BEGIN:VEVENT
DTSTART;TZID=America/Chicago:20250513T090000
DTEND;TZID=America/Chicago:20250513T140000
DTSTAMP:20260419T113616
CREATED:20250408T185712Z
LAST-MODIFIED:20250408T185712Z
UID:10020183-1747126800-1747144800@www.region5mentalhealth.com
SUMMARY:Aging Reimagined: Creating Communities for All Generations Event
DESCRIPTION:Training Objectives \n•Understand the impact of ageism on individuals and communities. \n•Learn about age-friendly initiatives that promote inclusivity. \n•Explore strategies for reframing aging and eliminating ageism. \nAll are Welcome. Lunch provided. \n**CEUs approved (4 hours) – Social Work & BELTSS \nRegister here by May 4\, Aging Reimagined: Creating Communities for All Generations Tickets\, Tue\, May 13\, 2025 at 9:00 AM | Eventbrite \nAging_Reimagined_5.13.25_Flyer
URL:https://www.region5mentalhealth.com/event/aging-reimagined-creating-communities-for-all-generations-event/
LOCATION:Gull Lake Sailing School\, 19696 Love Lake Road\, Brainerd\, 56401\, United States
END:VEVENT
END:VCALENDAR