BEGIN:VCALENDAR
VERSION:2.0
PRODID:-//Region 5+ Mental Health - ECPv6.15.20//NONSGML v1.0//EN
CALSCALE:GREGORIAN
METHOD:PUBLISH
X-WR-CALNAME:Region 5+ Mental Health
X-ORIGINAL-URL:https://www.region5mentalhealth.com
X-WR-CALDESC:Events for Region 5+ Mental Health
REFRESH-INTERVAL;VALUE=DURATION:PT1H
X-Robots-Tag:noindex
X-PUBLISHED-TTL:PT1H
BEGIN:VTIMEZONE
TZID:America/Chicago
BEGIN:DAYLIGHT
TZOFFSETFROM:-0600
TZOFFSETTO:-0500
TZNAME:CDT
DTSTART:20240310T080000
END:DAYLIGHT
BEGIN:STANDARD
TZOFFSETFROM:-0500
TZOFFSETTO:-0600
TZNAME:CST
DTSTART:20241103T070000
END:STANDARD
BEGIN:DAYLIGHT
TZOFFSETFROM:-0600
TZOFFSETTO:-0500
TZNAME:CDT
DTSTART:20250309T080000
END:DAYLIGHT
BEGIN:STANDARD
TZOFFSETFROM:-0500
TZOFFSETTO:-0600
TZNAME:CST
DTSTART:20251102T070000
END:STANDARD
BEGIN:DAYLIGHT
TZOFFSETFROM:-0600
TZOFFSETTO:-0500
TZNAME:CDT
DTSTART:20260308T080000
END:DAYLIGHT
BEGIN:STANDARD
TZOFFSETFROM:-0500
TZOFFSETTO:-0600
TZNAME:CST
DTSTART:20261101T070000
END:STANDARD
END:VTIMEZONE
BEGIN:VEVENT
DTSTART;TZID=America/Chicago:20250930T113000
DTEND;TZID=America/Chicago:20250930T133000
DTSTAMP:20260419T083453
CREATED:20250722T125654Z
LAST-MODIFIED:20250722T125654Z
UID:10020637-1759231800-1759239000@www.region5mentalhealth.com
SUMMARY:Crow Wing Energized Lunch Tour
DESCRIPTION:All Aboard!\nJoin one of our FREE Lunch Tours and learn more about:\n• Community Health Needs Assessment (CHNA)\n• Crow Wing Energized Strategies\n• Make it OK\n• Adverse Childhood Experiences (ACEs)\nAll while you enjoy lunch! \nAll sessions will run from 11:30-1:30 and offer the same program. Lunch will be provided – REGISTRATION REQUIRED to reserve a meal. \n*To register scan the QR code on the attached flyer or visit Crow Wing Energized Lunch Tour-Crosslake – Crow Wing Energized \nLunch Tour Flyer
URL:https://www.region5mentalhealth.com/event/crow-wing-energized-lunch-tour/
LOCATION:Crosslake Lutheran Church\, 35960 Co Rd 66\, Crosslake\, MN\, 56442\, United States
END:VEVENT
END:VCALENDAR