BEGIN:VCALENDAR
VERSION:2.0
PRODID:-//Region 5+ Mental Health - ECPv6.15.20//NONSGML v1.0//EN
CALSCALE:GREGORIAN
METHOD:PUBLISH
X-WR-CALNAME:Region 5+ Mental Health
X-ORIGINAL-URL:https://www.region5mentalhealth.com
X-WR-CALDESC:Events for Region 5+ Mental Health
REFRESH-INTERVAL;VALUE=DURATION:PT1H
X-Robots-Tag:noindex
X-PUBLISHED-TTL:PT1H
BEGIN:VTIMEZONE
TZID:America/Chicago
BEGIN:DAYLIGHT
TZOFFSETFROM:-0600
TZOFFSETTO:-0500
TZNAME:CDT
DTSTART:20240310T080000
END:DAYLIGHT
BEGIN:STANDARD
TZOFFSETFROM:-0500
TZOFFSETTO:-0600
TZNAME:CST
DTSTART:20241103T070000
END:STANDARD
BEGIN:DAYLIGHT
TZOFFSETFROM:-0600
TZOFFSETTO:-0500
TZNAME:CDT
DTSTART:20250309T080000
END:DAYLIGHT
BEGIN:STANDARD
TZOFFSETFROM:-0500
TZOFFSETTO:-0600
TZNAME:CST
DTSTART:20251102T070000
END:STANDARD
BEGIN:DAYLIGHT
TZOFFSETFROM:-0600
TZOFFSETTO:-0500
TZNAME:CDT
DTSTART:20260308T080000
END:DAYLIGHT
BEGIN:STANDARD
TZOFFSETFROM:-0500
TZOFFSETTO:-0600
TZNAME:CST
DTSTART:20261101T070000
END:STANDARD
END:VTIMEZONE
BEGIN:VEVENT
DTSTART;TZID=America/Chicago:20250618T120000
DTEND;TZID=America/Chicago:20250618T133000
DTSTAMP:20260419T220803
CREATED:20241023T011555Z
LAST-MODIFIED:20241023T011555Z
UID:10019609-1750248000-1750253400@www.region5mentalhealth.com
SUMMARY:Connect Effect
DESCRIPTION:STAY CONNECTED \nClick here for more information.
URL:https://www.region5mentalhealth.com/event/connect-effect/2025-06-18/
LOCATION:MN
END:VEVENT
BEGIN:VEVENT
DTSTART;TZID=America/Chicago:20250619T090000
DTEND;TZID=America/Chicago:20250619T160000
DTSTAMP:20260419T220803
CREATED:20250528T160611Z
LAST-MODIFIED:20250528T160611Z
UID:10020236-1750323600-1750348800@www.region5mentalhealth.com
SUMMARY:Morrison County Drop-in Center
DESCRIPTION:Morrison County Drop-in Center has daily activities open to the public Monday-Friday from 9:00am- 4:00pm. \nVisit the Drop-in Center at 120 E. Broadway\, Little Falls\, MN 56345 \nPlease click this link to get to the June 2025 Calendar (Peer) \nReach out to Pam at pama@orhwv.com for any questions.
URL:https://www.region5mentalhealth.com/event/morrison-county-drop-in-center-14/2025-06-19/
LOCATION:MN
END:VEVENT
BEGIN:VEVENT
DTSTART;TZID=America/Chicago:20250619T090000
DTEND;TZID=America/Chicago:20250619T170000
DTSTAMP:20260419T220803
CREATED:20241023T010307Z
LAST-MODIFIED:20241023T010430Z
UID:10019495-1750323600-1750352400@www.region5mentalhealth.com
SUMMARY:Wellness in the Woods- Virtual Peer Support Network
DESCRIPTION:Check out Wellness in the Woods Virtual Peer Support Network. Available daily 9:00am-5:00pm. \nTo join go to Wellness in the Woods website: www.mnwitw.org\nUser Zoom ID: 439 275 1585 \nPlease visit the Wellness in the Woods website for calendar events.
URL:https://www.region5mentalhealth.com/event/wellness-in-the-woods-virtual-peer-support-network-8/2025-06-19/
LOCATION:MN
END:VEVENT
BEGIN:VEVENT
DTSTART;TZID=America/Chicago:20250619T180000
DTEND;TZID=America/Chicago:20250619T193000
DTSTAMP:20260419T220803
CREATED:20250416T130704Z
LAST-MODIFIED:20250416T131121Z
UID:10020188-1750356000-1750361400@www.region5mentalhealth.com
SUMMARY:Regional Local Advisory Council Meeting
DESCRIPTION:Please join in person or virtually through the link below. Dinner provided at the in-person meeting. \nVirtual Zoom Link: https://zoom.us/j/97945581421?pwd=yVOBsYf39gifgzWtXj6WdHQXRyy6V3.1
URL:https://www.region5mentalhealth.com/event/regional-lac-meeting/2025-06-19/
LOCATION:Crisis Line and Referral Service\, 14391 Edgewood Dr Ste 101\, Baxter\, MN\, 56425\, United States
END:VEVENT
BEGIN:VEVENT
DTSTART;TZID=America/Chicago:20250620T090000
DTEND;TZID=America/Chicago:20250620T160000
DTSTAMP:20260419T220803
CREATED:20250528T160611Z
LAST-MODIFIED:20250528T160611Z
UID:10020237-1750410000-1750435200@www.region5mentalhealth.com
SUMMARY:Morrison County Drop-in Center
DESCRIPTION:Morrison County Drop-in Center has daily activities open to the public Monday-Friday from 9:00am- 4:00pm. \nVisit the Drop-in Center at 120 E. Broadway\, Little Falls\, MN 56345 \nPlease click this link to get to the June 2025 Calendar (Peer) \nReach out to Pam at pama@orhwv.com for any questions.
URL:https://www.region5mentalhealth.com/event/morrison-county-drop-in-center-14/2025-06-20/
LOCATION:MN
END:VEVENT
BEGIN:VEVENT
DTSTART;TZID=America/Chicago:20250620T090000
DTEND;TZID=America/Chicago:20250620T170000
DTSTAMP:20260419T220803
CREATED:20241023T010307Z
LAST-MODIFIED:20241023T010430Z
UID:10019496-1750410000-1750438800@www.region5mentalhealth.com
SUMMARY:Wellness in the Woods- Virtual Peer Support Network
DESCRIPTION:Check out Wellness in the Woods Virtual Peer Support Network. Available daily 9:00am-5:00pm. \nTo join go to Wellness in the Woods website: www.mnwitw.org\nUser Zoom ID: 439 275 1585 \nPlease visit the Wellness in the Woods website for calendar events.
URL:https://www.region5mentalhealth.com/event/wellness-in-the-woods-virtual-peer-support-network-8/2025-06-20/
LOCATION:MN
END:VEVENT
BEGIN:VEVENT
DTSTART;TZID=America/Chicago:20250621T090000
DTEND;TZID=America/Chicago:20250621T170000
DTSTAMP:20260419T220803
CREATED:20241023T010307Z
LAST-MODIFIED:20241023T010430Z
UID:10019497-1750496400-1750525200@www.region5mentalhealth.com
SUMMARY:Wellness in the Woods- Virtual Peer Support Network
DESCRIPTION:Check out Wellness in the Woods Virtual Peer Support Network. Available daily 9:00am-5:00pm. \nTo join go to Wellness in the Woods website: www.mnwitw.org\nUser Zoom ID: 439 275 1585 \nPlease visit the Wellness in the Woods website for calendar events.
URL:https://www.region5mentalhealth.com/event/wellness-in-the-woods-virtual-peer-support-network-8/2025-06-21/
LOCATION:MN
END:VEVENT
BEGIN:VEVENT
DTSTART;TZID=America/Chicago:20250622T090000
DTEND;TZID=America/Chicago:20250622T170000
DTSTAMP:20260419T220803
CREATED:20241023T010307Z
LAST-MODIFIED:20241023T010430Z
UID:10019498-1750582800-1750611600@www.region5mentalhealth.com
SUMMARY:Wellness in the Woods- Virtual Peer Support Network
DESCRIPTION:Check out Wellness in the Woods Virtual Peer Support Network. Available daily 9:00am-5:00pm. \nTo join go to Wellness in the Woods website: www.mnwitw.org\nUser Zoom ID: 439 275 1585 \nPlease visit the Wellness in the Woods website for calendar events.
URL:https://www.region5mentalhealth.com/event/wellness-in-the-woods-virtual-peer-support-network-8/2025-06-22/
LOCATION:MN
END:VEVENT
BEGIN:VEVENT
DTSTART;TZID=America/Chicago:20250623T090000
DTEND;TZID=America/Chicago:20250623T160000
DTSTAMP:20260419T220803
CREATED:20250528T160611Z
LAST-MODIFIED:20250528T160611Z
UID:10020238-1750669200-1750694400@www.region5mentalhealth.com
SUMMARY:Morrison County Drop-in Center
DESCRIPTION:Morrison County Drop-in Center has daily activities open to the public Monday-Friday from 9:00am- 4:00pm. \nVisit the Drop-in Center at 120 E. Broadway\, Little Falls\, MN 56345 \nPlease click this link to get to the June 2025 Calendar (Peer) \nReach out to Pam at pama@orhwv.com for any questions.
URL:https://www.region5mentalhealth.com/event/morrison-county-drop-in-center-14/2025-06-23/
LOCATION:MN
END:VEVENT
BEGIN:VEVENT
DTSTART;TZID=America/Chicago:20250623T090000
DTEND;TZID=America/Chicago:20250623T170000
DTSTAMP:20260419T220803
CREATED:20241023T010307Z
LAST-MODIFIED:20241023T010430Z
UID:10019499-1750669200-1750698000@www.region5mentalhealth.com
SUMMARY:Wellness in the Woods- Virtual Peer Support Network
DESCRIPTION:Check out Wellness in the Woods Virtual Peer Support Network. Available daily 9:00am-5:00pm. \nTo join go to Wellness in the Woods website: www.mnwitw.org\nUser Zoom ID: 439 275 1585 \nPlease visit the Wellness in the Woods website for calendar events.
URL:https://www.region5mentalhealth.com/event/wellness-in-the-woods-virtual-peer-support-network-8/2025-06-23/
LOCATION:MN
END:VEVENT
BEGIN:VEVENT
DTSTART;TZID=America/Chicago:20250624T090000
DTEND;TZID=America/Chicago:20250624T160000
DTSTAMP:20260419T220803
CREATED:20250528T160611Z
LAST-MODIFIED:20250528T160611Z
UID:10020239-1750755600-1750780800@www.region5mentalhealth.com
SUMMARY:Morrison County Drop-in Center
DESCRIPTION:Morrison County Drop-in Center has daily activities open to the public Monday-Friday from 9:00am- 4:00pm. \nVisit the Drop-in Center at 120 E. Broadway\, Little Falls\, MN 56345 \nPlease click this link to get to the June 2025 Calendar (Peer) \nReach out to Pam at pama@orhwv.com for any questions.
URL:https://www.region5mentalhealth.com/event/morrison-county-drop-in-center-14/2025-06-24/
LOCATION:MN
END:VEVENT
BEGIN:VEVENT
DTSTART;TZID=America/Chicago:20250624T090000
DTEND;TZID=America/Chicago:20250624T170000
DTSTAMP:20260419T220803
CREATED:20241023T010307Z
LAST-MODIFIED:20241023T010430Z
UID:10019500-1750755600-1750784400@www.region5mentalhealth.com
SUMMARY:Wellness in the Woods- Virtual Peer Support Network
DESCRIPTION:Check out Wellness in the Woods Virtual Peer Support Network. Available daily 9:00am-5:00pm. \nTo join go to Wellness in the Woods website: www.mnwitw.org\nUser Zoom ID: 439 275 1585 \nPlease visit the Wellness in the Woods website for calendar events.
URL:https://www.region5mentalhealth.com/event/wellness-in-the-woods-virtual-peer-support-network-8/2025-06-24/
LOCATION:MN
END:VEVENT
BEGIN:VEVENT
DTSTART;TZID=America/Chicago:20250624T120000
DTEND;TZID=America/Chicago:20250624T133000
DTSTAMP:20260419T220803
CREATED:20241023T011555Z
LAST-MODIFIED:20241023T011555Z
UID:10019610-1750766400-1750771800@www.region5mentalhealth.com
SUMMARY:Connect Effect
DESCRIPTION:STAY CONNECTED \nClick here for more information.
URL:https://www.region5mentalhealth.com/event/connect-effect/2025-06-24/
LOCATION:MN
END:VEVENT
BEGIN:VEVENT
DTSTART;TZID=America/Chicago:20250625T090000
DTEND;TZID=America/Chicago:20250625T160000
DTSTAMP:20260419T220803
CREATED:20250528T160611Z
LAST-MODIFIED:20250528T160611Z
UID:10020240-1750842000-1750867200@www.region5mentalhealth.com
SUMMARY:Morrison County Drop-in Center
DESCRIPTION:Morrison County Drop-in Center has daily activities open to the public Monday-Friday from 9:00am- 4:00pm. \nVisit the Drop-in Center at 120 E. Broadway\, Little Falls\, MN 56345 \nPlease click this link to get to the June 2025 Calendar (Peer) \nReach out to Pam at pama@orhwv.com for any questions.
URL:https://www.region5mentalhealth.com/event/morrison-county-drop-in-center-14/2025-06-25/
LOCATION:MN
END:VEVENT
BEGIN:VEVENT
DTSTART;TZID=America/Chicago:20250625T090000
DTEND;TZID=America/Chicago:20250625T170000
DTSTAMP:20260419T220803
CREATED:20241023T010307Z
LAST-MODIFIED:20241023T010430Z
UID:10019501-1750842000-1750870800@www.region5mentalhealth.com
SUMMARY:Wellness in the Woods- Virtual Peer Support Network
DESCRIPTION:Check out Wellness in the Woods Virtual Peer Support Network. Available daily 9:00am-5:00pm. \nTo join go to Wellness in the Woods website: www.mnwitw.org\nUser Zoom ID: 439 275 1585 \nPlease visit the Wellness in the Woods website for calendar events.
URL:https://www.region5mentalhealth.com/event/wellness-in-the-woods-virtual-peer-support-network-8/2025-06-25/
LOCATION:MN
END:VEVENT
BEGIN:VEVENT
DTSTART;TZID=America/Chicago:20250625T120000
DTEND;TZID=America/Chicago:20250625T133000
DTSTAMP:20260419T220803
CREATED:20241023T011555Z
LAST-MODIFIED:20241023T011555Z
UID:10019611-1750852800-1750858200@www.region5mentalhealth.com
SUMMARY:Connect Effect
DESCRIPTION:STAY CONNECTED \nClick here for more information.
URL:https://www.region5mentalhealth.com/event/connect-effect/2025-06-25/
LOCATION:MN
END:VEVENT
BEGIN:VEVENT
DTSTART;TZID=America/Chicago:20250625T130000
DTEND;TZID=America/Chicago:20250625T171500
DTSTAMP:20260419T220803
CREATED:20250610T175130Z
LAST-MODIFIED:20250610T175130Z
UID:10020245-1750856400-1750871700@www.region5mentalhealth.com
SUMMARY:Mille Lacs Indian Museum and Trading Post Guided Tour
DESCRIPTION:1:00pm – Car pool leaves Lord of Life Lutheran Church\, 6190 Fairview Rd N\, Baxter \n2:00pm – Tour begins \n5:15pm – Back at Lord of Life \nGroup Admission is $10 per person: pay at the museum \nCall the church office\, 218 828-9374\, to sign up or to offer to drive. \nThe trip will include a guided tour of the amazing Four Seasons Room where the lives and traditional practices of the ancient Ojibwe people are portrayed and explained. Did you know that the Ojibwe people already used some of the same ingredients for mosquito repellant that we use today? \nFollowing the tour\, we will be able to explore the extensive artifacts displayed around the museum. Director Travis Zimmerman will conclude our time in the museum with a question/answer time informed by his own Indigenous roots. \nFinally\, we will visit the Indian Trading Post\, next door\, to see a rich and beautiful array of Native arts\, writings\, pottery\, jewelry\, and more. \nThis event has been planned by Micah Group: all people at Lord of Life and all community friends are welcome! \nMille Lacs Indian Museum and Trading Post
URL:https://www.region5mentalhealth.com/event/mille-lacs-indian-museum-and-trading-post-guided-tour/
LOCATION:Lord of Life Lutheran Church\, 6190 Fairview Rd N\, Baxter\, MN\, 56425\, United States
END:VEVENT
BEGIN:VEVENT
DTSTART;TZID=America/Chicago:20250626T090000
DTEND;TZID=America/Chicago:20250626T160000
DTSTAMP:20260419T220803
CREATED:20250528T160611Z
LAST-MODIFIED:20250528T160611Z
UID:10020241-1750928400-1750953600@www.region5mentalhealth.com
SUMMARY:Morrison County Drop-in Center
DESCRIPTION:Morrison County Drop-in Center has daily activities open to the public Monday-Friday from 9:00am- 4:00pm. \nVisit the Drop-in Center at 120 E. Broadway\, Little Falls\, MN 56345 \nPlease click this link to get to the June 2025 Calendar (Peer) \nReach out to Pam at pama@orhwv.com for any questions.
URL:https://www.region5mentalhealth.com/event/morrison-county-drop-in-center-14/2025-06-26/
LOCATION:MN
END:VEVENT
BEGIN:VEVENT
DTSTART;TZID=America/Chicago:20250626T090000
DTEND;TZID=America/Chicago:20250626T170000
DTSTAMP:20260419T220803
CREATED:20241023T010307Z
LAST-MODIFIED:20241023T010430Z
UID:10019502-1750928400-1750957200@www.region5mentalhealth.com
SUMMARY:Wellness in the Woods- Virtual Peer Support Network
DESCRIPTION:Check out Wellness in the Woods Virtual Peer Support Network. Available daily 9:00am-5:00pm. \nTo join go to Wellness in the Woods website: www.mnwitw.org\nUser Zoom ID: 439 275 1585 \nPlease visit the Wellness in the Woods website for calendar events.
URL:https://www.region5mentalhealth.com/event/wellness-in-the-woods-virtual-peer-support-network-8/2025-06-26/
LOCATION:MN
END:VEVENT
BEGIN:VEVENT
DTSTART;TZID=America/Chicago:20250626T150000
DTEND;TZID=America/Chicago:20250626T170000
DTSTAMP:20260419T220803
CREATED:20250609T205441Z
LAST-MODIFIED:20250609T205441Z
UID:10020244-1750950000-1750957200@www.region5mentalhealth.com
SUMMARY:Northern Pacific Center - Lakeview Behavioral Health New Location!
DESCRIPTION:Open House & Ribbon Cutting \nLakeview Behavioral Health\, along with guests from the Brainerd Lakes Chamber of Commerce\, is excited to host a ribbon cutting and open house for their new location in the Northern Pacific Center! Stop by for light food and refreshments as they celebrate this special event and invite everyone to see the space where they will proudly support and serve our community. \nLakeview Behavioral Health Open House \n 
URL:https://www.region5mentalhealth.com/event/northern-pacific-center-lakeview-behavioral-health-new-location/
LOCATION:Northern Pacific Center\, 1511 Northern Pacific Rd\, Suite 1480\, Brainerd\, MN\, 56401\, United States
END:VEVENT
BEGIN:VEVENT
DTSTART;TZID=America/Chicago:20250627T090000
DTEND;TZID=America/Chicago:20250627T160000
DTSTAMP:20260419T220803
CREATED:20250528T160611Z
LAST-MODIFIED:20250528T160611Z
UID:10020242-1751014800-1751040000@www.region5mentalhealth.com
SUMMARY:Morrison County Drop-in Center
DESCRIPTION:Morrison County Drop-in Center has daily activities open to the public Monday-Friday from 9:00am- 4:00pm. \nVisit the Drop-in Center at 120 E. Broadway\, Little Falls\, MN 56345 \nPlease click this link to get to the June 2025 Calendar (Peer) \nReach out to Pam at pama@orhwv.com for any questions.
URL:https://www.region5mentalhealth.com/event/morrison-county-drop-in-center-14/2025-06-27/
LOCATION:MN
END:VEVENT
BEGIN:VEVENT
DTSTART;TZID=America/Chicago:20250627T090000
DTEND;TZID=America/Chicago:20250627T170000
DTSTAMP:20260419T220803
CREATED:20241023T010307Z
LAST-MODIFIED:20241023T010430Z
UID:10019503-1751014800-1751043600@www.region5mentalhealth.com
SUMMARY:Wellness in the Woods- Virtual Peer Support Network
DESCRIPTION:Check out Wellness in the Woods Virtual Peer Support Network. Available daily 9:00am-5:00pm. \nTo join go to Wellness in the Woods website: www.mnwitw.org\nUser Zoom ID: 439 275 1585 \nPlease visit the Wellness in the Woods website for calendar events.
URL:https://www.region5mentalhealth.com/event/wellness-in-the-woods-virtual-peer-support-network-8/2025-06-27/
LOCATION:MN
END:VEVENT
BEGIN:VEVENT
DTSTART;TZID=America/Chicago:20250628T090000
DTEND;TZID=America/Chicago:20250628T170000
DTSTAMP:20260419T220803
CREATED:20241023T010307Z
LAST-MODIFIED:20241023T010430Z
UID:10019504-1751101200-1751130000@www.region5mentalhealth.com
SUMMARY:Wellness in the Woods- Virtual Peer Support Network
DESCRIPTION:Check out Wellness in the Woods Virtual Peer Support Network. Available daily 9:00am-5:00pm. \nTo join go to Wellness in the Woods website: www.mnwitw.org\nUser Zoom ID: 439 275 1585 \nPlease visit the Wellness in the Woods website for calendar events.
URL:https://www.region5mentalhealth.com/event/wellness-in-the-woods-virtual-peer-support-network-8/2025-06-28/
LOCATION:MN
END:VEVENT
BEGIN:VEVENT
DTSTART;TZID=America/Chicago:20250629T090000
DTEND;TZID=America/Chicago:20250629T170000
DTSTAMP:20260419T220803
CREATED:20241023T010307Z
LAST-MODIFIED:20241023T010430Z
UID:10019505-1751187600-1751216400@www.region5mentalhealth.com
SUMMARY:Wellness in the Woods- Virtual Peer Support Network
DESCRIPTION:Check out Wellness in the Woods Virtual Peer Support Network. Available daily 9:00am-5:00pm. \nTo join go to Wellness in the Woods website: www.mnwitw.org\nUser Zoom ID: 439 275 1585 \nPlease visit the Wellness in the Woods website for calendar events.
URL:https://www.region5mentalhealth.com/event/wellness-in-the-woods-virtual-peer-support-network-8/2025-06-29/
LOCATION:MN
END:VEVENT
BEGIN:VEVENT
DTSTART;TZID=America/Chicago:20250630T090000
DTEND;TZID=America/Chicago:20250630T160000
DTSTAMP:20260419T220803
CREATED:20250528T160611Z
LAST-MODIFIED:20250528T160611Z
UID:10020243-1751274000-1751299200@www.region5mentalhealth.com
SUMMARY:Morrison County Drop-in Center
DESCRIPTION:Morrison County Drop-in Center has daily activities open to the public Monday-Friday from 9:00am- 4:00pm. \nVisit the Drop-in Center at 120 E. Broadway\, Little Falls\, MN 56345 \nPlease click this link to get to the June 2025 Calendar (Peer) \nReach out to Pam at pama@orhwv.com for any questions.
URL:https://www.region5mentalhealth.com/event/morrison-county-drop-in-center-14/2025-06-30/
LOCATION:MN
END:VEVENT
BEGIN:VEVENT
DTSTART;TZID=America/Chicago:20250630T090000
DTEND;TZID=America/Chicago:20250630T170000
DTSTAMP:20260419T220803
CREATED:20241023T010307Z
LAST-MODIFIED:20241023T010430Z
UID:10019506-1751274000-1751302800@www.region5mentalhealth.com
SUMMARY:Wellness in the Woods- Virtual Peer Support Network
DESCRIPTION:Check out Wellness in the Woods Virtual Peer Support Network. Available daily 9:00am-5:00pm. \nTo join go to Wellness in the Woods website: www.mnwitw.org\nUser Zoom ID: 439 275 1585 \nPlease visit the Wellness in the Woods website for calendar events.
URL:https://www.region5mentalhealth.com/event/wellness-in-the-woods-virtual-peer-support-network-8/2025-06-30/
LOCATION:MN
END:VEVENT
BEGIN:VEVENT
DTSTART;TZID=America/Chicago:20250701T090000
DTEND;TZID=America/Chicago:20250701T150000
DTSTAMP:20260419T220803
CREATED:20231228T221526Z
LAST-MODIFIED:20231228T222144Z
UID:10015684-1751360400-1751382000@www.region5mentalhealth.com
SUMMARY:Region V+ AMHI Executive Committee Meetings
DESCRIPTION:Region V+ AMHI Executive Committee meets monthly on the first Tuesday of each month from 9am-3pm\, if otherwise not stated. Meetings are held hybrid with options to join virtually via Microsoft Teams or Webex and in person at Sourcewell. \nSourcewell\n202 12th St NE\nStaples\, MN 56479 \nFor more information on meetings please reach out to Danielle Wadsworth\, Region V+ AMHI Coordinator\, at danielle.wadsworth@sourcewell-mn.gov.
URL:https://www.region5mentalhealth.com/event/region-v-amhi-executive-committee-meetings/2025-07-01/
LOCATION:Sourcewell\, 202 12th Street NE\, Staples\, MN\, 56479\, United States
ORGANIZER;CN="Danielle Wadsworth":MAILTO:danielle.wadsworth@sourcewell-mn.gov
END:VEVENT
BEGIN:VEVENT
DTSTART;TZID=America/Chicago:20250701T090000
DTEND;TZID=America/Chicago:20250701T160000
DTSTAMP:20260419T220803
CREATED:20250702T164026Z
LAST-MODIFIED:20250702T164026Z
UID:10020247-1751360400-1751385600@www.region5mentalhealth.com
SUMMARY:Morrison County Drop-in Center
DESCRIPTION:Morrison County Drop-in Center has daily activities open to the public Monday-Friday from 9:00am- 4:00pm. \nVisit the Drop-in Center at 120 E. Broadway\, Little Falls\, MN 56345 \nPlease click this link to get to the July 2025 Calendar \nReach out to Pam at pama@orhwv.com for any questions.
URL:https://www.region5mentalhealth.com/event/morrison-county-drop-in-center-15/2025-07-01/
LOCATION:Morrison County Drop-in Center\, 120 E. Broadway\, Little Falls\, Minnesota\, 56345
END:VEVENT
BEGIN:VEVENT
DTSTART;TZID=America/Chicago:20250701T090000
DTEND;TZID=America/Chicago:20250701T170000
DTSTAMP:20260419T220803
CREATED:20241023T010307Z
LAST-MODIFIED:20241023T010430Z
UID:10019507-1751360400-1751389200@www.region5mentalhealth.com
SUMMARY:Wellness in the Woods- Virtual Peer Support Network
DESCRIPTION:Check out Wellness in the Woods Virtual Peer Support Network. Available daily 9:00am-5:00pm. \nTo join go to Wellness in the Woods website: www.mnwitw.org\nUser Zoom ID: 439 275 1585 \nPlease visit the Wellness in the Woods website for calendar events.
URL:https://www.region5mentalhealth.com/event/wellness-in-the-woods-virtual-peer-support-network-8/2025-07-01/
LOCATION:MN
END:VEVENT
BEGIN:VEVENT
DTSTART;TZID=America/Chicago:20250701T120000
DTEND;TZID=America/Chicago:20250701T133000
DTSTAMP:20260419T220803
CREATED:20241023T011555Z
LAST-MODIFIED:20241023T011555Z
UID:10019612-1751371200-1751376600@www.region5mentalhealth.com
SUMMARY:Connect Effect
DESCRIPTION:STAY CONNECTED \nClick here for more information.
URL:https://www.region5mentalhealth.com/event/connect-effect/2025-07-01/
LOCATION:MN
END:VEVENT
END:VCALENDAR