BEGIN:VCALENDAR
VERSION:2.0
PRODID:-//Region 5+ Mental Health - ECPv6.15.20//NONSGML v1.0//EN
CALSCALE:GREGORIAN
METHOD:PUBLISH
X-WR-CALNAME:Region 5+ Mental Health
X-ORIGINAL-URL:https://www.region5mentalhealth.com
X-WR-CALDESC:Events for Region 5+ Mental Health
REFRESH-INTERVAL;VALUE=DURATION:PT1H
X-Robots-Tag:noindex
X-PUBLISHED-TTL:PT1H
BEGIN:VTIMEZONE
TZID:America/Chicago
BEGIN:DAYLIGHT
TZOFFSETFROM:-0600
TZOFFSETTO:-0500
TZNAME:CDT
DTSTART:20240310T080000
END:DAYLIGHT
BEGIN:STANDARD
TZOFFSETFROM:-0500
TZOFFSETTO:-0600
TZNAME:CST
DTSTART:20241103T070000
END:STANDARD
BEGIN:DAYLIGHT
TZOFFSETFROM:-0600
TZOFFSETTO:-0500
TZNAME:CDT
DTSTART:20250309T080000
END:DAYLIGHT
BEGIN:STANDARD
TZOFFSETFROM:-0500
TZOFFSETTO:-0600
TZNAME:CST
DTSTART:20251102T070000
END:STANDARD
BEGIN:DAYLIGHT
TZOFFSETFROM:-0600
TZOFFSETTO:-0500
TZNAME:CDT
DTSTART:20260308T080000
END:DAYLIGHT
BEGIN:STANDARD
TZOFFSETFROM:-0500
TZOFFSETTO:-0600
TZNAME:CST
DTSTART:20261101T070000
END:STANDARD
END:VTIMEZONE
BEGIN:VEVENT
DTSTART;TZID=America/Chicago:20250610T120000
DTEND;TZID=America/Chicago:20250610T133000
DTSTAMP:20260419T190440
CREATED:20241023T011555Z
LAST-MODIFIED:20241023T011555Z
UID:10019606-1749556800-1749562200@www.region5mentalhealth.com
SUMMARY:Connect Effect
DESCRIPTION:STAY CONNECTED \nClick here for more information.
URL:https://www.region5mentalhealth.com/event/connect-effect/2025-06-10/
LOCATION:MN
END:VEVENT
BEGIN:VEVENT
DTSTART;TZID=America/Chicago:20250610T141500
DTEND;TZID=America/Chicago:20250610T151500
DTSTAMP:20260419T190440
CREATED:20250213T143624Z
LAST-MODIFIED:20250213T144032Z
UID:10020112-1749564900-1749568500@www.region5mentalhealth.com
SUMMARY:Morrison County Local Advisory Council Meeting
DESCRIPTION:Second Tuesday of even months \n2:15pm \nVirtually only via Microsoft Teams \n 
URL:https://www.region5mentalhealth.com/event/morrison-county-local-advisory-council-meeting-2/2025-06-10/
LOCATION:https://teams.microsoft.com/l/meetup-join/19%3ameeting_MGUzZjI5MGQtYThiYi00ODdlLWE5ZmMtOTdkYjRjZDUyYjEx%40thread.v2/0?context=%7b%22Tid%22%3a%227945f05f-61f8-4105-9a8d-d63bb2e42646%22%2c%22Oid%22%3a%22f4b15fac-d9b4-41ce-a337-df50a91ef48a%22%7d
END:VEVENT
BEGIN:VEVENT
DTSTART;TZID=America/Chicago:20250611T090000
DTEND;TZID=America/Chicago:20250611T160000
DTSTAMP:20260419T190440
CREATED:20250528T160611Z
LAST-MODIFIED:20250528T160611Z
UID:10020230-1749632400-1749657600@www.region5mentalhealth.com
SUMMARY:Morrison County Drop-in Center
DESCRIPTION:Morrison County Drop-in Center has daily activities open to the public Monday-Friday from 9:00am- 4:00pm. \nVisit the Drop-in Center at 120 E. Broadway\, Little Falls\, MN 56345 \nPlease click this link to get to the June 2025 Calendar (Peer) \nReach out to Pam at pama@orhwv.com for any questions.
URL:https://www.region5mentalhealth.com/event/morrison-county-drop-in-center-14/2025-06-11/
LOCATION:MN
END:VEVENT
BEGIN:VEVENT
DTSTART;TZID=America/Chicago:20250611T090000
DTEND;TZID=America/Chicago:20250611T170000
DTSTAMP:20260419T190440
CREATED:20241023T010307Z
LAST-MODIFIED:20241023T010430Z
UID:10019487-1749632400-1749661200@www.region5mentalhealth.com
SUMMARY:Wellness in the Woods- Virtual Peer Support Network
DESCRIPTION:Check out Wellness in the Woods Virtual Peer Support Network. Available daily 9:00am-5:00pm. \nTo join go to Wellness in the Woods website: www.mnwitw.org\nUser Zoom ID: 439 275 1585 \nPlease visit the Wellness in the Woods website for calendar events.
URL:https://www.region5mentalhealth.com/event/wellness-in-the-woods-virtual-peer-support-network-8/2025-06-11/
LOCATION:MN
END:VEVENT
BEGIN:VEVENT
DTSTART;TZID=America/Chicago:20250611T120000
DTEND;TZID=America/Chicago:20250611T133000
DTSTAMP:20260419T190440
CREATED:20241023T011555Z
LAST-MODIFIED:20241023T011555Z
UID:10019607-1749643200-1749648600@www.region5mentalhealth.com
SUMMARY:Connect Effect
DESCRIPTION:STAY CONNECTED \nClick here for more information.
URL:https://www.region5mentalhealth.com/event/connect-effect/2025-06-11/
LOCATION:MN
END:VEVENT
BEGIN:VEVENT
DTSTART;TZID=America/Chicago:20250612T080000
DTEND;TZID=America/Chicago:20250612T163000
DTSTAMP:20260419T190440
CREATED:20250404T155750Z
LAST-MODIFIED:20250404T155750Z
UID:10020182-1749715200-1749745800@www.region5mentalhealth.com
SUMMARY:Program to Encourage Active and Rewarding Lives - In-Person Coach Training
DESCRIPTION:The In-person Coach Training is designed for individuals who are interested in becoming a PEARLS coach. You will obtain all of the tools that will prepare you to meet one-on-one with older adults to help them build the skills they need ti live happier\, healthier\, and more independent lives. Lunch will be provided. \nThere are no professional licensing\, accreditation\, or higher education requirements to become a PEARLS coach. Our goal is to make this program as accessible as possible. \nPlease register by contacting fia@horizonhealthservices.com or call 320-468-6451 and ask for Jurnee. \n2025_Pearls_Coach_Training
URL:https://www.region5mentalhealth.com/event/program-to-encourage-active-and-rewarding-lives-in-person-coach-training-3/
LOCATION:Staples Community Center\, 425 4th St NE\, Staples\, MN\, 56479\, United States
END:VEVENT
BEGIN:VEVENT
DTSTART;TZID=America/Chicago:20250612T090000
DTEND;TZID=America/Chicago:20250612T160000
DTSTAMP:20260419T190440
CREATED:20250528T160611Z
LAST-MODIFIED:20250528T160611Z
UID:10020231-1749718800-1749744000@www.region5mentalhealth.com
SUMMARY:Morrison County Drop-in Center
DESCRIPTION:Morrison County Drop-in Center has daily activities open to the public Monday-Friday from 9:00am- 4:00pm. \nVisit the Drop-in Center at 120 E. Broadway\, Little Falls\, MN 56345 \nPlease click this link to get to the June 2025 Calendar (Peer) \nReach out to Pam at pama@orhwv.com for any questions.
URL:https://www.region5mentalhealth.com/event/morrison-county-drop-in-center-14/2025-06-12/
LOCATION:MN
END:VEVENT
BEGIN:VEVENT
DTSTART;TZID=America/Chicago:20250612T090000
DTEND;TZID=America/Chicago:20250612T170000
DTSTAMP:20260419T190440
CREATED:20241023T010307Z
LAST-MODIFIED:20241023T010430Z
UID:10019488-1749718800-1749747600@www.region5mentalhealth.com
SUMMARY:Wellness in the Woods- Virtual Peer Support Network
DESCRIPTION:Check out Wellness in the Woods Virtual Peer Support Network. Available daily 9:00am-5:00pm. \nTo join go to Wellness in the Woods website: www.mnwitw.org\nUser Zoom ID: 439 275 1585 \nPlease visit the Wellness in the Woods website for calendar events.
URL:https://www.region5mentalhealth.com/event/wellness-in-the-woods-virtual-peer-support-network-8/2025-06-12/
LOCATION:MN
END:VEVENT
BEGIN:VEVENT
DTSTART;TZID=America/Chicago:20250613T090000
DTEND;TZID=America/Chicago:20250613T160000
DTSTAMP:20260419T190440
CREATED:20250528T160611Z
LAST-MODIFIED:20250528T160611Z
UID:10020232-1749805200-1749830400@www.region5mentalhealth.com
SUMMARY:Morrison County Drop-in Center
DESCRIPTION:Morrison County Drop-in Center has daily activities open to the public Monday-Friday from 9:00am- 4:00pm. \nVisit the Drop-in Center at 120 E. Broadway\, Little Falls\, MN 56345 \nPlease click this link to get to the June 2025 Calendar (Peer) \nReach out to Pam at pama@orhwv.com for any questions.
URL:https://www.region5mentalhealth.com/event/morrison-county-drop-in-center-14/2025-06-13/
LOCATION:MN
END:VEVENT
BEGIN:VEVENT
DTSTART;TZID=America/Chicago:20250613T090000
DTEND;TZID=America/Chicago:20250613T170000
DTSTAMP:20260419T190440
CREATED:20241023T010307Z
LAST-MODIFIED:20241023T010430Z
UID:10019489-1749805200-1749834000@www.region5mentalhealth.com
SUMMARY:Wellness in the Woods- Virtual Peer Support Network
DESCRIPTION:Check out Wellness in the Woods Virtual Peer Support Network. Available daily 9:00am-5:00pm. \nTo join go to Wellness in the Woods website: www.mnwitw.org\nUser Zoom ID: 439 275 1585 \nPlease visit the Wellness in the Woods website for calendar events.
URL:https://www.region5mentalhealth.com/event/wellness-in-the-woods-virtual-peer-support-network-8/2025-06-13/
LOCATION:MN
END:VEVENT
BEGIN:VEVENT
DTSTART;TZID=America/Chicago:20250614T090000
DTEND;TZID=America/Chicago:20250614T170000
DTSTAMP:20260419T190440
CREATED:20241023T010307Z
LAST-MODIFIED:20241023T010430Z
UID:10019490-1749891600-1749920400@www.region5mentalhealth.com
SUMMARY:Wellness in the Woods- Virtual Peer Support Network
DESCRIPTION:Check out Wellness in the Woods Virtual Peer Support Network. Available daily 9:00am-5:00pm. \nTo join go to Wellness in the Woods website: www.mnwitw.org\nUser Zoom ID: 439 275 1585 \nPlease visit the Wellness in the Woods website for calendar events.
URL:https://www.region5mentalhealth.com/event/wellness-in-the-woods-virtual-peer-support-network-8/2025-06-14/
LOCATION:MN
END:VEVENT
BEGIN:VEVENT
DTSTART;TZID=America/Chicago:20250615T090000
DTEND;TZID=America/Chicago:20250615T170000
DTSTAMP:20260419T190440
CREATED:20241023T010307Z
LAST-MODIFIED:20241023T010430Z
UID:10019491-1749978000-1750006800@www.region5mentalhealth.com
SUMMARY:Wellness in the Woods- Virtual Peer Support Network
DESCRIPTION:Check out Wellness in the Woods Virtual Peer Support Network. Available daily 9:00am-5:00pm. \nTo join go to Wellness in the Woods website: www.mnwitw.org\nUser Zoom ID: 439 275 1585 \nPlease visit the Wellness in the Woods website for calendar events.
URL:https://www.region5mentalhealth.com/event/wellness-in-the-woods-virtual-peer-support-network-8/2025-06-15/
LOCATION:MN
END:VEVENT
BEGIN:VEVENT
DTSTART;TZID=America/Chicago:20250616T090000
DTEND;TZID=America/Chicago:20250616T160000
DTSTAMP:20260419T190440
CREATED:20250528T160611Z
LAST-MODIFIED:20250528T160611Z
UID:10020233-1750064400-1750089600@www.region5mentalhealth.com
SUMMARY:Morrison County Drop-in Center
DESCRIPTION:Morrison County Drop-in Center has daily activities open to the public Monday-Friday from 9:00am- 4:00pm. \nVisit the Drop-in Center at 120 E. Broadway\, Little Falls\, MN 56345 \nPlease click this link to get to the June 2025 Calendar (Peer) \nReach out to Pam at pama@orhwv.com for any questions.
URL:https://www.region5mentalhealth.com/event/morrison-county-drop-in-center-14/2025-06-16/
LOCATION:MN
END:VEVENT
BEGIN:VEVENT
DTSTART;TZID=America/Chicago:20250616T090000
DTEND;TZID=America/Chicago:20250616T170000
DTSTAMP:20260419T190440
CREATED:20241023T010307Z
LAST-MODIFIED:20241023T010430Z
UID:10019492-1750064400-1750093200@www.region5mentalhealth.com
SUMMARY:Wellness in the Woods- Virtual Peer Support Network
DESCRIPTION:Check out Wellness in the Woods Virtual Peer Support Network. Available daily 9:00am-5:00pm. \nTo join go to Wellness in the Woods website: www.mnwitw.org\nUser Zoom ID: 439 275 1585 \nPlease visit the Wellness in the Woods website for calendar events.
URL:https://www.region5mentalhealth.com/event/wellness-in-the-woods-virtual-peer-support-network-8/2025-06-16/
LOCATION:MN
END:VEVENT
BEGIN:VEVENT
DTSTART;TZID=America/Chicago:20250616T130000
DTEND;TZID=America/Chicago:20250616T140000
DTSTAMP:20260419T190440
CREATED:20250131T194042Z
LAST-MODIFIED:20250131T194042Z
UID:10020076-1750078800-1750082400@www.region5mentalhealth.com
SUMMARY:Crow Wing County Local Advisory Council Meeting
DESCRIPTION:Third Monday of even months \nJoin us at 1:00pm \nVirtually only via Zoom
URL:https://www.region5mentalhealth.com/event/crow-wing-county-local-advisory-council-meeting/2025-06-16/
LOCATION:https://zoom.us/meeting/tJIofuCrqT8iEtC3xV9eUhvpqBhYMWUmaaTO/ics?icsToken=98tyKuCuqzIjGdORuBGDRowAGYr4XenwtilHj7d-zwfTWiVmahXmJ8BKC59IJdXR
END:VEVENT
BEGIN:VEVENT
DTSTART;TZID=America/Chicago:20250617T090000
DTEND;TZID=America/Chicago:20250617T160000
DTSTAMP:20260419T190440
CREATED:20250528T160611Z
LAST-MODIFIED:20250528T160611Z
UID:10020234-1750150800-1750176000@www.region5mentalhealth.com
SUMMARY:Morrison County Drop-in Center
DESCRIPTION:Morrison County Drop-in Center has daily activities open to the public Monday-Friday from 9:00am- 4:00pm. \nVisit the Drop-in Center at 120 E. Broadway\, Little Falls\, MN 56345 \nPlease click this link to get to the June 2025 Calendar (Peer) \nReach out to Pam at pama@orhwv.com for any questions.
URL:https://www.region5mentalhealth.com/event/morrison-county-drop-in-center-14/2025-06-17/
LOCATION:MN
END:VEVENT
BEGIN:VEVENT
DTSTART;TZID=America/Chicago:20250617T090000
DTEND;TZID=America/Chicago:20250617T170000
DTSTAMP:20260419T190440
CREATED:20241023T010307Z
LAST-MODIFIED:20241023T010430Z
UID:10019493-1750150800-1750179600@www.region5mentalhealth.com
SUMMARY:Wellness in the Woods- Virtual Peer Support Network
DESCRIPTION:Check out Wellness in the Woods Virtual Peer Support Network. Available daily 9:00am-5:00pm. \nTo join go to Wellness in the Woods website: www.mnwitw.org\nUser Zoom ID: 439 275 1585 \nPlease visit the Wellness in the Woods website for calendar events.
URL:https://www.region5mentalhealth.com/event/wellness-in-the-woods-virtual-peer-support-network-8/2025-06-17/
LOCATION:MN
END:VEVENT
BEGIN:VEVENT
DTSTART;TZID=America/Chicago:20250617T120000
DTEND;TZID=America/Chicago:20250617T133000
DTSTAMP:20260419T190440
CREATED:20241023T011555Z
LAST-MODIFIED:20241023T011555Z
UID:10019608-1750161600-1750167000@www.region5mentalhealth.com
SUMMARY:Connect Effect
DESCRIPTION:STAY CONNECTED \nClick here for more information.
URL:https://www.region5mentalhealth.com/event/connect-effect/2025-06-17/
LOCATION:MN
END:VEVENT
BEGIN:VEVENT
DTSTART;TZID=America/Chicago:20250618T090000
DTEND;TZID=America/Chicago:20250618T160000
DTSTAMP:20260419T190440
CREATED:20250528T160611Z
LAST-MODIFIED:20250528T160611Z
UID:10020235-1750237200-1750262400@www.region5mentalhealth.com
SUMMARY:Morrison County Drop-in Center
DESCRIPTION:Morrison County Drop-in Center has daily activities open to the public Monday-Friday from 9:00am- 4:00pm. \nVisit the Drop-in Center at 120 E. Broadway\, Little Falls\, MN 56345 \nPlease click this link to get to the June 2025 Calendar (Peer) \nReach out to Pam at pama@orhwv.com for any questions.
URL:https://www.region5mentalhealth.com/event/morrison-county-drop-in-center-14/2025-06-18/
LOCATION:MN
END:VEVENT
BEGIN:VEVENT
DTSTART;TZID=America/Chicago:20250618T090000
DTEND;TZID=America/Chicago:20250618T170000
DTSTAMP:20260419T190440
CREATED:20241023T010307Z
LAST-MODIFIED:20241023T010430Z
UID:10019494-1750237200-1750266000@www.region5mentalhealth.com
SUMMARY:Wellness in the Woods- Virtual Peer Support Network
DESCRIPTION:Check out Wellness in the Woods Virtual Peer Support Network. Available daily 9:00am-5:00pm. \nTo join go to Wellness in the Woods website: www.mnwitw.org\nUser Zoom ID: 439 275 1585 \nPlease visit the Wellness in the Woods website for calendar events.
URL:https://www.region5mentalhealth.com/event/wellness-in-the-woods-virtual-peer-support-network-8/2025-06-18/
LOCATION:MN
END:VEVENT
BEGIN:VEVENT
DTSTART;TZID=America/Chicago:20250618T120000
DTEND;TZID=America/Chicago:20250618T133000
DTSTAMP:20260419T190440
CREATED:20241023T011555Z
LAST-MODIFIED:20241023T011555Z
UID:10019609-1750248000-1750253400@www.region5mentalhealth.com
SUMMARY:Connect Effect
DESCRIPTION:STAY CONNECTED \nClick here for more information.
URL:https://www.region5mentalhealth.com/event/connect-effect/2025-06-18/
LOCATION:MN
END:VEVENT
BEGIN:VEVENT
DTSTART;TZID=America/Chicago:20250619T090000
DTEND;TZID=America/Chicago:20250619T160000
DTSTAMP:20260419T190440
CREATED:20250528T160611Z
LAST-MODIFIED:20250528T160611Z
UID:10020236-1750323600-1750348800@www.region5mentalhealth.com
SUMMARY:Morrison County Drop-in Center
DESCRIPTION:Morrison County Drop-in Center has daily activities open to the public Monday-Friday from 9:00am- 4:00pm. \nVisit the Drop-in Center at 120 E. Broadway\, Little Falls\, MN 56345 \nPlease click this link to get to the June 2025 Calendar (Peer) \nReach out to Pam at pama@orhwv.com for any questions.
URL:https://www.region5mentalhealth.com/event/morrison-county-drop-in-center-14/2025-06-19/
LOCATION:MN
END:VEVENT
BEGIN:VEVENT
DTSTART;TZID=America/Chicago:20250619T090000
DTEND;TZID=America/Chicago:20250619T170000
DTSTAMP:20260419T190440
CREATED:20241023T010307Z
LAST-MODIFIED:20241023T010430Z
UID:10019495-1750323600-1750352400@www.region5mentalhealth.com
SUMMARY:Wellness in the Woods- Virtual Peer Support Network
DESCRIPTION:Check out Wellness in the Woods Virtual Peer Support Network. Available daily 9:00am-5:00pm. \nTo join go to Wellness in the Woods website: www.mnwitw.org\nUser Zoom ID: 439 275 1585 \nPlease visit the Wellness in the Woods website for calendar events.
URL:https://www.region5mentalhealth.com/event/wellness-in-the-woods-virtual-peer-support-network-8/2025-06-19/
LOCATION:MN
END:VEVENT
BEGIN:VEVENT
DTSTART;TZID=America/Chicago:20250619T180000
DTEND;TZID=America/Chicago:20250619T193000
DTSTAMP:20260419T190440
CREATED:20250416T130704Z
LAST-MODIFIED:20250416T131121Z
UID:10020188-1750356000-1750361400@www.region5mentalhealth.com
SUMMARY:Regional Local Advisory Council Meeting
DESCRIPTION:Please join in person or virtually through the link below. Dinner provided at the in-person meeting. \nVirtual Zoom Link: https://zoom.us/j/97945581421?pwd=yVOBsYf39gifgzWtXj6WdHQXRyy6V3.1
URL:https://www.region5mentalhealth.com/event/regional-lac-meeting/2025-06-19/
LOCATION:Crisis Line and Referral Service\, 14391 Edgewood Dr Ste 101\, Baxter\, MN\, 56425\, United States
END:VEVENT
BEGIN:VEVENT
DTSTART;TZID=America/Chicago:20250620T090000
DTEND;TZID=America/Chicago:20250620T160000
DTSTAMP:20260419T190440
CREATED:20250528T160611Z
LAST-MODIFIED:20250528T160611Z
UID:10020237-1750410000-1750435200@www.region5mentalhealth.com
SUMMARY:Morrison County Drop-in Center
DESCRIPTION:Morrison County Drop-in Center has daily activities open to the public Monday-Friday from 9:00am- 4:00pm. \nVisit the Drop-in Center at 120 E. Broadway\, Little Falls\, MN 56345 \nPlease click this link to get to the June 2025 Calendar (Peer) \nReach out to Pam at pama@orhwv.com for any questions.
URL:https://www.region5mentalhealth.com/event/morrison-county-drop-in-center-14/2025-06-20/
LOCATION:MN
END:VEVENT
BEGIN:VEVENT
DTSTART;TZID=America/Chicago:20250620T090000
DTEND;TZID=America/Chicago:20250620T170000
DTSTAMP:20260419T190440
CREATED:20241023T010307Z
LAST-MODIFIED:20241023T010430Z
UID:10019496-1750410000-1750438800@www.region5mentalhealth.com
SUMMARY:Wellness in the Woods- Virtual Peer Support Network
DESCRIPTION:Check out Wellness in the Woods Virtual Peer Support Network. Available daily 9:00am-5:00pm. \nTo join go to Wellness in the Woods website: www.mnwitw.org\nUser Zoom ID: 439 275 1585 \nPlease visit the Wellness in the Woods website for calendar events.
URL:https://www.region5mentalhealth.com/event/wellness-in-the-woods-virtual-peer-support-network-8/2025-06-20/
LOCATION:MN
END:VEVENT
BEGIN:VEVENT
DTSTART;TZID=America/Chicago:20250621T090000
DTEND;TZID=America/Chicago:20250621T170000
DTSTAMP:20260419T190440
CREATED:20241023T010307Z
LAST-MODIFIED:20241023T010430Z
UID:10019497-1750496400-1750525200@www.region5mentalhealth.com
SUMMARY:Wellness in the Woods- Virtual Peer Support Network
DESCRIPTION:Check out Wellness in the Woods Virtual Peer Support Network. Available daily 9:00am-5:00pm. \nTo join go to Wellness in the Woods website: www.mnwitw.org\nUser Zoom ID: 439 275 1585 \nPlease visit the Wellness in the Woods website for calendar events.
URL:https://www.region5mentalhealth.com/event/wellness-in-the-woods-virtual-peer-support-network-8/2025-06-21/
LOCATION:MN
END:VEVENT
BEGIN:VEVENT
DTSTART;TZID=America/Chicago:20250622T090000
DTEND;TZID=America/Chicago:20250622T170000
DTSTAMP:20260419T190440
CREATED:20241023T010307Z
LAST-MODIFIED:20241023T010430Z
UID:10019498-1750582800-1750611600@www.region5mentalhealth.com
SUMMARY:Wellness in the Woods- Virtual Peer Support Network
DESCRIPTION:Check out Wellness in the Woods Virtual Peer Support Network. Available daily 9:00am-5:00pm. \nTo join go to Wellness in the Woods website: www.mnwitw.org\nUser Zoom ID: 439 275 1585 \nPlease visit the Wellness in the Woods website for calendar events.
URL:https://www.region5mentalhealth.com/event/wellness-in-the-woods-virtual-peer-support-network-8/2025-06-22/
LOCATION:MN
END:VEVENT
BEGIN:VEVENT
DTSTART;TZID=America/Chicago:20250623T090000
DTEND;TZID=America/Chicago:20250623T160000
DTSTAMP:20260419T190440
CREATED:20250528T160611Z
LAST-MODIFIED:20250528T160611Z
UID:10020238-1750669200-1750694400@www.region5mentalhealth.com
SUMMARY:Morrison County Drop-in Center
DESCRIPTION:Morrison County Drop-in Center has daily activities open to the public Monday-Friday from 9:00am- 4:00pm. \nVisit the Drop-in Center at 120 E. Broadway\, Little Falls\, MN 56345 \nPlease click this link to get to the June 2025 Calendar (Peer) \nReach out to Pam at pama@orhwv.com for any questions.
URL:https://www.region5mentalhealth.com/event/morrison-county-drop-in-center-14/2025-06-23/
LOCATION:MN
END:VEVENT
BEGIN:VEVENT
DTSTART;TZID=America/Chicago:20250623T090000
DTEND;TZID=America/Chicago:20250623T170000
DTSTAMP:20260419T190440
CREATED:20241023T010307Z
LAST-MODIFIED:20241023T010430Z
UID:10019499-1750669200-1750698000@www.region5mentalhealth.com
SUMMARY:Wellness in the Woods- Virtual Peer Support Network
DESCRIPTION:Check out Wellness in the Woods Virtual Peer Support Network. Available daily 9:00am-5:00pm. \nTo join go to Wellness in the Woods website: www.mnwitw.org\nUser Zoom ID: 439 275 1585 \nPlease visit the Wellness in the Woods website for calendar events.
URL:https://www.region5mentalhealth.com/event/wellness-in-the-woods-virtual-peer-support-network-8/2025-06-23/
LOCATION:MN
END:VEVENT
END:VCALENDAR