BEGIN:VCALENDAR
VERSION:2.0
PRODID:-//Region 5+ Mental Health - ECPv6.15.20//NONSGML v1.0//EN
CALSCALE:GREGORIAN
METHOD:PUBLISH
X-ORIGINAL-URL:https://www.region5mentalhealth.com
X-WR-CALDESC:Events for Region 5+ Mental Health
REFRESH-INTERVAL;VALUE=DURATION:PT1H
X-Robots-Tag:noindex
X-PUBLISHED-TTL:PT1H
BEGIN:VTIMEZONE
TZID:America/Chicago
BEGIN:DAYLIGHT
TZOFFSETFROM:-0600
TZOFFSETTO:-0500
TZNAME:CDT
DTSTART:20240310T080000
END:DAYLIGHT
BEGIN:STANDARD
TZOFFSETFROM:-0500
TZOFFSETTO:-0600
TZNAME:CST
DTSTART:20241103T070000
END:STANDARD
BEGIN:DAYLIGHT
TZOFFSETFROM:-0600
TZOFFSETTO:-0500
TZNAME:CDT
DTSTART:20250309T080000
END:DAYLIGHT
BEGIN:STANDARD
TZOFFSETFROM:-0500
TZOFFSETTO:-0600
TZNAME:CST
DTSTART:20251102T070000
END:STANDARD
BEGIN:DAYLIGHT
TZOFFSETFROM:-0600
TZOFFSETTO:-0500
TZNAME:CDT
DTSTART:20260308T080000
END:DAYLIGHT
BEGIN:STANDARD
TZOFFSETFROM:-0500
TZOFFSETTO:-0600
TZNAME:CST
DTSTART:20261101T070000
END:STANDARD
END:VTIMEZONE
BEGIN:VEVENT
DTSTART;TZID=America/Chicago:20250705T090000
DTEND;TZID=America/Chicago:20250705T170000
DTSTAMP:20260421T001449
CREATED:20241023T010307Z
LAST-MODIFIED:20241023T010430Z
UID:10019511-1751706000-1751734800@www.region5mentalhealth.com
SUMMARY:Wellness in the Woods- Virtual Peer Support Network
DESCRIPTION:Check out Wellness in the Woods Virtual Peer Support Network. Available daily 9:00am-5:00pm. \nTo join go to Wellness in the Woods website: www.mnwitw.org\nUser Zoom ID: 439 275 1585 \nPlease visit the Wellness in the Woods website for calendar events.
URL:https://www.region5mentalhealth.com/event/wellness-in-the-woods-virtual-peer-support-network-8/2025-07-05/
LOCATION:Minnesota
END:VEVENT
BEGIN:VEVENT
DTSTART;TZID=America/Chicago:20250706T090000
DTEND;TZID=America/Chicago:20250706T170000
DTSTAMP:20260421T001449
CREATED:20241023T010307Z
LAST-MODIFIED:20241023T010430Z
UID:10019512-1751792400-1751821200@www.region5mentalhealth.com
SUMMARY:Wellness in the Woods- Virtual Peer Support Network
DESCRIPTION:Check out Wellness in the Woods Virtual Peer Support Network. Available daily 9:00am-5:00pm. \nTo join go to Wellness in the Woods website: www.mnwitw.org\nUser Zoom ID: 439 275 1585 \nPlease visit the Wellness in the Woods website for calendar events.
URL:https://www.region5mentalhealth.com/event/wellness-in-the-woods-virtual-peer-support-network-8/2025-07-06/
LOCATION:Minnesota
END:VEVENT
BEGIN:VEVENT
DTSTART;TZID=America/Chicago:20250707T090000
DTEND;TZID=America/Chicago:20250707T160000
DTSTAMP:20260421T001449
CREATED:20250702T164026Z
LAST-MODIFIED:20250702T164026Z
UID:10020251-1751878800-1751904000@www.region5mentalhealth.com
SUMMARY:Morrison County Drop-in Center
DESCRIPTION:Morrison County Drop-in Center has daily activities open to the public Monday-Friday from 9:00am- 4:00pm. \nVisit the Drop-in Center at 120 E. Broadway\, Little Falls\, MN 56345 \nPlease click this link to get to the July 2025 Calendar \nReach out to Pam at pama@orhwv.com for any questions.
URL:https://www.region5mentalhealth.com/event/morrison-county-drop-in-center-15/2025-07-07/
LOCATION:Morrison County Drop-in Center\, 120 E. Broadway\, Little Falls\, Minnesota\, 56345
END:VEVENT
BEGIN:VEVENT
DTSTART;TZID=America/Chicago:20250707T090000
DTEND;TZID=America/Chicago:20250707T170000
DTSTAMP:20260421T001449
CREATED:20241023T010307Z
LAST-MODIFIED:20241023T010430Z
UID:10019513-1751878800-1751907600@www.region5mentalhealth.com
SUMMARY:Wellness in the Woods- Virtual Peer Support Network
DESCRIPTION:Check out Wellness in the Woods Virtual Peer Support Network. Available daily 9:00am-5:00pm. \nTo join go to Wellness in the Woods website: www.mnwitw.org\nUser Zoom ID: 439 275 1585 \nPlease visit the Wellness in the Woods website for calendar events.
URL:https://www.region5mentalhealth.com/event/wellness-in-the-woods-virtual-peer-support-network-8/2025-07-07/
LOCATION:Minnesota
END:VEVENT
BEGIN:VEVENT
DTSTART;TZID=America/Chicago:20250708T090000
DTEND;TZID=America/Chicago:20250708T160000
DTSTAMP:20260421T001449
CREATED:20250702T164026Z
LAST-MODIFIED:20250702T164026Z
UID:10020252-1751965200-1751990400@www.region5mentalhealth.com
SUMMARY:Morrison County Drop-in Center
DESCRIPTION:Morrison County Drop-in Center has daily activities open to the public Monday-Friday from 9:00am- 4:00pm. \nVisit the Drop-in Center at 120 E. Broadway\, Little Falls\, MN 56345 \nPlease click this link to get to the July 2025 Calendar \nReach out to Pam at pama@orhwv.com for any questions.
URL:https://www.region5mentalhealth.com/event/morrison-county-drop-in-center-15/2025-07-08/
LOCATION:Morrison County Drop-in Center\, 120 E. Broadway\, Little Falls\, Minnesota\, 56345
END:VEVENT
BEGIN:VEVENT
DTSTART;TZID=America/Chicago:20250708T090000
DTEND;TZID=America/Chicago:20250708T170000
DTSTAMP:20260421T001449
CREATED:20241023T010307Z
LAST-MODIFIED:20241023T010430Z
UID:10019514-1751965200-1751994000@www.region5mentalhealth.com
SUMMARY:Wellness in the Woods- Virtual Peer Support Network
DESCRIPTION:Check out Wellness in the Woods Virtual Peer Support Network. Available daily 9:00am-5:00pm. \nTo join go to Wellness in the Woods website: www.mnwitw.org\nUser Zoom ID: 439 275 1585 \nPlease visit the Wellness in the Woods website for calendar events.
URL:https://www.region5mentalhealth.com/event/wellness-in-the-woods-virtual-peer-support-network-8/2025-07-08/
LOCATION:Minnesota
END:VEVENT
BEGIN:VEVENT
DTSTART;TZID=America/Chicago:20250708T120000
DTEND;TZID=America/Chicago:20250708T133000
DTSTAMP:20260421T001449
CREATED:20241023T011555Z
LAST-MODIFIED:20241023T011555Z
UID:10019614-1751976000-1751981400@www.region5mentalhealth.com
SUMMARY:Connect Effect
DESCRIPTION:STAY CONNECTED \nClick here for more information.
URL:https://www.region5mentalhealth.com/event/connect-effect/2025-07-08/
LOCATION:Minnesota
END:VEVENT
BEGIN:VEVENT
DTSTART;TZID=America/Chicago:20250708T140000
DTEND;TZID=America/Chicago:20250708T150000
DTSTAMP:20260421T001449
CREATED:20250131T173136Z
LAST-MODIFIED:20250131T173136Z
UID:10020070-1751983200-1751986800@www.region5mentalhealth.com
SUMMARY:Aitkin County Local Advisory Council Meeting
DESCRIPTION:Second Tuesday of every other month \n2:00-3:00pm \nHybrid: Virtual via Microsoft Teams (link below) \nIn-person at Petals of Peace Drop-in Center \nVirtual Microsoft Teams Link: Join the meeting now
URL:https://www.region5mentalhealth.com/event/aitkin-county-local-advisory-council-meeting/2025-07-08/
LOCATION:Petals of Peach Drop-in Center\, 209 Minnesota Ave N\, Aitkin\, MN\, 56431\, United States
END:VEVENT
BEGIN:VEVENT
DTSTART;TZID=America/Chicago:20250709T090000
DTEND;TZID=America/Chicago:20250709T160000
DTSTAMP:20260421T001449
CREATED:20250702T164026Z
LAST-MODIFIED:20250702T164026Z
UID:10020253-1752051600-1752076800@www.region5mentalhealth.com
SUMMARY:Morrison County Drop-in Center
DESCRIPTION:Morrison County Drop-in Center has daily activities open to the public Monday-Friday from 9:00am- 4:00pm. \nVisit the Drop-in Center at 120 E. Broadway\, Little Falls\, MN 56345 \nPlease click this link to get to the July 2025 Calendar \nReach out to Pam at pama@orhwv.com for any questions.
URL:https://www.region5mentalhealth.com/event/morrison-county-drop-in-center-15/2025-07-09/
LOCATION:Morrison County Drop-in Center\, 120 E. Broadway\, Little Falls\, Minnesota\, 56345
END:VEVENT
BEGIN:VEVENT
DTSTART;TZID=America/Chicago:20250709T090000
DTEND;TZID=America/Chicago:20250709T170000
DTSTAMP:20260421T001449
CREATED:20241023T010307Z
LAST-MODIFIED:20241023T010430Z
UID:10019515-1752051600-1752080400@www.region5mentalhealth.com
SUMMARY:Wellness in the Woods- Virtual Peer Support Network
DESCRIPTION:Check out Wellness in the Woods Virtual Peer Support Network. Available daily 9:00am-5:00pm. \nTo join go to Wellness in the Woods website: www.mnwitw.org\nUser Zoom ID: 439 275 1585 \nPlease visit the Wellness in the Woods website for calendar events.
URL:https://www.region5mentalhealth.com/event/wellness-in-the-woods-virtual-peer-support-network-8/2025-07-09/
LOCATION:Minnesota
END:VEVENT
BEGIN:VEVENT
DTSTART;TZID=America/Chicago:20250709T120000
DTEND;TZID=America/Chicago:20250709T133000
DTSTAMP:20260421T001449
CREATED:20241023T011555Z
LAST-MODIFIED:20241023T011555Z
UID:10019615-1752062400-1752067800@www.region5mentalhealth.com
SUMMARY:Connect Effect
DESCRIPTION:STAY CONNECTED \nClick here for more information.
URL:https://www.region5mentalhealth.com/event/connect-effect/2025-07-09/
LOCATION:Minnesota
END:VEVENT
BEGIN:VEVENT
DTSTART;TZID=America/Chicago:20250710T090000
DTEND;TZID=America/Chicago:20250710T160000
DTSTAMP:20260421T001449
CREATED:20250702T164026Z
LAST-MODIFIED:20250702T164026Z
UID:10020254-1752138000-1752163200@www.region5mentalhealth.com
SUMMARY:Morrison County Drop-in Center
DESCRIPTION:Morrison County Drop-in Center has daily activities open to the public Monday-Friday from 9:00am- 4:00pm. \nVisit the Drop-in Center at 120 E. Broadway\, Little Falls\, MN 56345 \nPlease click this link to get to the July 2025 Calendar \nReach out to Pam at pama@orhwv.com for any questions.
URL:https://www.region5mentalhealth.com/event/morrison-county-drop-in-center-15/2025-07-10/
LOCATION:Morrison County Drop-in Center\, 120 E. Broadway\, Little Falls\, Minnesota\, 56345
END:VEVENT
BEGIN:VEVENT
DTSTART;TZID=America/Chicago:20250710T090000
DTEND;TZID=America/Chicago:20250710T170000
DTSTAMP:20260421T001449
CREATED:20241023T010307Z
LAST-MODIFIED:20241023T010430Z
UID:10019516-1752138000-1752166800@www.region5mentalhealth.com
SUMMARY:Wellness in the Woods- Virtual Peer Support Network
DESCRIPTION:Check out Wellness in the Woods Virtual Peer Support Network. Available daily 9:00am-5:00pm. \nTo join go to Wellness in the Woods website: www.mnwitw.org\nUser Zoom ID: 439 275 1585 \nPlease visit the Wellness in the Woods website for calendar events.
URL:https://www.region5mentalhealth.com/event/wellness-in-the-woods-virtual-peer-support-network-8/2025-07-10/
LOCATION:Minnesota
END:VEVENT
BEGIN:VEVENT
DTSTART;TZID=America/Chicago:20250711T090000
DTEND;TZID=America/Chicago:20250711T160000
DTSTAMP:20260421T001449
CREATED:20250702T164026Z
LAST-MODIFIED:20250702T164026Z
UID:10020255-1752224400-1752249600@www.region5mentalhealth.com
SUMMARY:Morrison County Drop-in Center
DESCRIPTION:Morrison County Drop-in Center has daily activities open to the public Monday-Friday from 9:00am- 4:00pm. \nVisit the Drop-in Center at 120 E. Broadway\, Little Falls\, MN 56345 \nPlease click this link to get to the July 2025 Calendar \nReach out to Pam at pama@orhwv.com for any questions.
URL:https://www.region5mentalhealth.com/event/morrison-county-drop-in-center-15/2025-07-11/
LOCATION:Morrison County Drop-in Center\, 120 E. Broadway\, Little Falls\, Minnesota\, 56345
END:VEVENT
BEGIN:VEVENT
DTSTART;TZID=America/Chicago:20250711T090000
DTEND;TZID=America/Chicago:20250711T170000
DTSTAMP:20260421T001449
CREATED:20241023T010307Z
LAST-MODIFIED:20241023T010430Z
UID:10019517-1752224400-1752253200@www.region5mentalhealth.com
SUMMARY:Wellness in the Woods- Virtual Peer Support Network
DESCRIPTION:Check out Wellness in the Woods Virtual Peer Support Network. Available daily 9:00am-5:00pm. \nTo join go to Wellness in the Woods website: www.mnwitw.org\nUser Zoom ID: 439 275 1585 \nPlease visit the Wellness in the Woods website for calendar events.
URL:https://www.region5mentalhealth.com/event/wellness-in-the-woods-virtual-peer-support-network-8/2025-07-11/
LOCATION:Minnesota
END:VEVENT
BEGIN:VEVENT
DTSTART;TZID=America/Chicago:20250712T090000
DTEND;TZID=America/Chicago:20250712T170000
DTSTAMP:20260421T001449
CREATED:20241023T010307Z
LAST-MODIFIED:20241023T010430Z
UID:10019518-1752310800-1752339600@www.region5mentalhealth.com
SUMMARY:Wellness in the Woods- Virtual Peer Support Network
DESCRIPTION:Check out Wellness in the Woods Virtual Peer Support Network. Available daily 9:00am-5:00pm. \nTo join go to Wellness in the Woods website: www.mnwitw.org\nUser Zoom ID: 439 275 1585 \nPlease visit the Wellness in the Woods website for calendar events.
URL:https://www.region5mentalhealth.com/event/wellness-in-the-woods-virtual-peer-support-network-8/2025-07-12/
LOCATION:Minnesota
END:VEVENT
BEGIN:VEVENT
DTSTART;TZID=America/Chicago:20250713T090000
DTEND;TZID=America/Chicago:20250713T170000
DTSTAMP:20260421T001449
CREATED:20241023T010307Z
LAST-MODIFIED:20241023T010430Z
UID:10019519-1752397200-1752426000@www.region5mentalhealth.com
SUMMARY:Wellness in the Woods- Virtual Peer Support Network
DESCRIPTION:Check out Wellness in the Woods Virtual Peer Support Network. Available daily 9:00am-5:00pm. \nTo join go to Wellness in the Woods website: www.mnwitw.org\nUser Zoom ID: 439 275 1585 \nPlease visit the Wellness in the Woods website for calendar events.
URL:https://www.region5mentalhealth.com/event/wellness-in-the-woods-virtual-peer-support-network-8/2025-07-13/
LOCATION:Minnesota
END:VEVENT
BEGIN:VEVENT
DTSTART;TZID=America/Chicago:20250714T090000
DTEND;TZID=America/Chicago:20250714T160000
DTSTAMP:20260421T001449
CREATED:20250702T164026Z
LAST-MODIFIED:20250702T164026Z
UID:10020256-1752483600-1752508800@www.region5mentalhealth.com
SUMMARY:Morrison County Drop-in Center
DESCRIPTION:Morrison County Drop-in Center has daily activities open to the public Monday-Friday from 9:00am- 4:00pm. \nVisit the Drop-in Center at 120 E. Broadway\, Little Falls\, MN 56345 \nPlease click this link to get to the July 2025 Calendar \nReach out to Pam at pama@orhwv.com for any questions.
URL:https://www.region5mentalhealth.com/event/morrison-county-drop-in-center-15/2025-07-14/
LOCATION:Morrison County Drop-in Center\, 120 E. Broadway\, Little Falls\, Minnesota\, 56345
END:VEVENT
BEGIN:VEVENT
DTSTART;TZID=America/Chicago:20250714T090000
DTEND;TZID=America/Chicago:20250714T170000
DTSTAMP:20260421T001449
CREATED:20241023T010307Z
LAST-MODIFIED:20241023T010430Z
UID:10019520-1752483600-1752512400@www.region5mentalhealth.com
SUMMARY:Wellness in the Woods- Virtual Peer Support Network
DESCRIPTION:Check out Wellness in the Woods Virtual Peer Support Network. Available daily 9:00am-5:00pm. \nTo join go to Wellness in the Woods website: www.mnwitw.org\nUser Zoom ID: 439 275 1585 \nPlease visit the Wellness in the Woods website for calendar events.
URL:https://www.region5mentalhealth.com/event/wellness-in-the-woods-virtual-peer-support-network-8/2025-07-14/
LOCATION:Minnesota
END:VEVENT
BEGIN:VEVENT
DTSTART;TZID=America/Chicago:20250715T090000
DTEND;TZID=America/Chicago:20250715T160000
DTSTAMP:20260421T001449
CREATED:20250702T164026Z
LAST-MODIFIED:20250702T164026Z
UID:10020257-1752570000-1752595200@www.region5mentalhealth.com
SUMMARY:Morrison County Drop-in Center
DESCRIPTION:Morrison County Drop-in Center has daily activities open to the public Monday-Friday from 9:00am- 4:00pm. \nVisit the Drop-in Center at 120 E. Broadway\, Little Falls\, MN 56345 \nPlease click this link to get to the July 2025 Calendar \nReach out to Pam at pama@orhwv.com for any questions.
URL:https://www.region5mentalhealth.com/event/morrison-county-drop-in-center-15/2025-07-15/
LOCATION:Morrison County Drop-in Center\, 120 E. Broadway\, Little Falls\, Minnesota\, 56345
END:VEVENT
BEGIN:VEVENT
DTSTART;TZID=America/Chicago:20250715T090000
DTEND;TZID=America/Chicago:20250715T170000
DTSTAMP:20260421T001449
CREATED:20241023T010307Z
LAST-MODIFIED:20241023T010430Z
UID:10019521-1752570000-1752598800@www.region5mentalhealth.com
SUMMARY:Wellness in the Woods- Virtual Peer Support Network
DESCRIPTION:Check out Wellness in the Woods Virtual Peer Support Network. Available daily 9:00am-5:00pm. \nTo join go to Wellness in the Woods website: www.mnwitw.org\nUser Zoom ID: 439 275 1585 \nPlease visit the Wellness in the Woods website for calendar events.
URL:https://www.region5mentalhealth.com/event/wellness-in-the-woods-virtual-peer-support-network-8/2025-07-15/
LOCATION:Minnesota
END:VEVENT
BEGIN:VEVENT
DTSTART;TZID=America/Chicago:20250715T120000
DTEND;TZID=America/Chicago:20250715T133000
DTSTAMP:20260421T001449
CREATED:20241023T011555Z
LAST-MODIFIED:20241023T011555Z
UID:10019616-1752580800-1752586200@www.region5mentalhealth.com
SUMMARY:Connect Effect
DESCRIPTION:STAY CONNECTED \nClick here for more information.
URL:https://www.region5mentalhealth.com/event/connect-effect/2025-07-15/
LOCATION:Minnesota
END:VEVENT
BEGIN:VEVENT
DTSTART;TZID=America/Chicago:20250716T090000
DTEND;TZID=America/Chicago:20250716T160000
DTSTAMP:20260421T001449
CREATED:20250702T164026Z
LAST-MODIFIED:20250702T164026Z
UID:10020258-1752656400-1752681600@www.region5mentalhealth.com
SUMMARY:Morrison County Drop-in Center
DESCRIPTION:Morrison County Drop-in Center has daily activities open to the public Monday-Friday from 9:00am- 4:00pm. \nVisit the Drop-in Center at 120 E. Broadway\, Little Falls\, MN 56345 \nPlease click this link to get to the July 2025 Calendar \nReach out to Pam at pama@orhwv.com for any questions.
URL:https://www.region5mentalhealth.com/event/morrison-county-drop-in-center-15/2025-07-16/
LOCATION:Morrison County Drop-in Center\, 120 E. Broadway\, Little Falls\, Minnesota\, 56345
END:VEVENT
BEGIN:VEVENT
DTSTART;TZID=America/Chicago:20250716T090000
DTEND;TZID=America/Chicago:20250716T170000
DTSTAMP:20260421T001449
CREATED:20241023T010307Z
LAST-MODIFIED:20241023T010430Z
UID:10019522-1752656400-1752685200@www.region5mentalhealth.com
SUMMARY:Wellness in the Woods- Virtual Peer Support Network
DESCRIPTION:Check out Wellness in the Woods Virtual Peer Support Network. Available daily 9:00am-5:00pm. \nTo join go to Wellness in the Woods website: www.mnwitw.org\nUser Zoom ID: 439 275 1585 \nPlease visit the Wellness in the Woods website for calendar events.
URL:https://www.region5mentalhealth.com/event/wellness-in-the-woods-virtual-peer-support-network-8/2025-07-16/
LOCATION:Minnesota
END:VEVENT
BEGIN:VEVENT
DTSTART;TZID=America/Chicago:20250716T120000
DTEND;TZID=America/Chicago:20250716T133000
DTSTAMP:20260421T001449
CREATED:20241023T011555Z
LAST-MODIFIED:20241023T011555Z
UID:10019617-1752667200-1752672600@www.region5mentalhealth.com
SUMMARY:Connect Effect
DESCRIPTION:STAY CONNECTED \nClick here for more information.
URL:https://www.region5mentalhealth.com/event/connect-effect/2025-07-16/
LOCATION:Minnesota
END:VEVENT
BEGIN:VEVENT
DTSTART;TZID=America/Chicago:20250717T090000
DTEND;TZID=America/Chicago:20250717T100000
DTSTAMP:20260421T001449
CREATED:20250131T194749Z
LAST-MODIFIED:20250131T194749Z
UID:10020088-1752742800-1752746400@www.region5mentalhealth.com
SUMMARY:Todd County Local Advisory Council Meeting
DESCRIPTION:Third Thursday of odd months \n9:00am \nIn-person only at Historic Todd County Courthouse-Prairie Conference Room
URL:https://www.region5mentalhealth.com/event/todd-county-local-advisory-council-meeting/2025-07-17/
LOCATION:Historic Todd County Courthouse – Prairie Conference Room\, 212 2nd Ave S\, Long Prairie\, MN\, 56347\, United States
END:VEVENT
BEGIN:VEVENT
DTSTART;TZID=America/Chicago:20250717T090000
DTEND;TZID=America/Chicago:20250717T160000
DTSTAMP:20260421T001449
CREATED:20250702T164026Z
LAST-MODIFIED:20250702T164026Z
UID:10020259-1752742800-1752768000@www.region5mentalhealth.com
SUMMARY:Morrison County Drop-in Center
DESCRIPTION:Morrison County Drop-in Center has daily activities open to the public Monday-Friday from 9:00am- 4:00pm. \nVisit the Drop-in Center at 120 E. Broadway\, Little Falls\, MN 56345 \nPlease click this link to get to the July 2025 Calendar \nReach out to Pam at pama@orhwv.com for any questions.
URL:https://www.region5mentalhealth.com/event/morrison-county-drop-in-center-15/2025-07-17/
LOCATION:Morrison County Drop-in Center\, 120 E. Broadway\, Little Falls\, Minnesota\, 56345
END:VEVENT
BEGIN:VEVENT
DTSTART;TZID=America/Chicago:20250717T090000
DTEND;TZID=America/Chicago:20250717T170000
DTSTAMP:20260421T001449
CREATED:20241023T010307Z
LAST-MODIFIED:20241023T010430Z
UID:10019523-1752742800-1752771600@www.region5mentalhealth.com
SUMMARY:Wellness in the Woods- Virtual Peer Support Network
DESCRIPTION:Check out Wellness in the Woods Virtual Peer Support Network. Available daily 9:00am-5:00pm. \nTo join go to Wellness in the Woods website: www.mnwitw.org\nUser Zoom ID: 439 275 1585 \nPlease visit the Wellness in the Woods website for calendar events.
URL:https://www.region5mentalhealth.com/event/wellness-in-the-woods-virtual-peer-support-network-8/2025-07-17/
LOCATION:Minnesota
END:VEVENT
BEGIN:VEVENT
DTSTART;TZID=America/Chicago:20250717T130000
DTEND;TZID=America/Chicago:20250717T143000
DTSTAMP:20260421T001449
CREATED:20250416T130432Z
LAST-MODIFIED:20250416T130432Z
UID:10020065-1752757200-1752762600@www.region5mentalhealth.com
SUMMARY:Regional Local Advisory Council Meeting
DESCRIPTION:Please join in person or virtually through the link below. \nVirtual Zoom Link: https://zoom.us/j/97945581421?pwd=yVOBsYf39gifgzWtXj6WdHQXRyy6V3.1
URL:https://www.region5mentalhealth.com/event/regional-local-advisory-council-meeting-2/2025-07-17/
LOCATION:Crisis Line and Referral Service\, 14391 Edgewood Dr Ste 101\, Baxter\, MN\, 56425\, United States
END:VEVENT
BEGIN:VEVENT
DTSTART;TZID=America/Chicago:20250718T090000
DTEND;TZID=America/Chicago:20250718T160000
DTSTAMP:20260421T001449
CREATED:20250702T164026Z
LAST-MODIFIED:20250702T164026Z
UID:10020260-1752829200-1752854400@www.region5mentalhealth.com
SUMMARY:Morrison County Drop-in Center
DESCRIPTION:Morrison County Drop-in Center has daily activities open to the public Monday-Friday from 9:00am- 4:00pm. \nVisit the Drop-in Center at 120 E. Broadway\, Little Falls\, MN 56345 \nPlease click this link to get to the July 2025 Calendar \nReach out to Pam at pama@orhwv.com for any questions.
URL:https://www.region5mentalhealth.com/event/morrison-county-drop-in-center-15/2025-07-18/
LOCATION:Morrison County Drop-in Center\, 120 E. Broadway\, Little Falls\, Minnesota\, 56345
END:VEVENT
END:VCALENDAR