BEGIN:VCALENDAR
VERSION:2.0
PRODID:-//Region 5+ Mental Health - ECPv6.15.20//NONSGML v1.0//EN
CALSCALE:GREGORIAN
METHOD:PUBLISH
X-WR-CALNAME:Region 5+ Mental Health
X-ORIGINAL-URL:https://www.region5mentalhealth.com
X-WR-CALDESC:Events for Region 5+ Mental Health
REFRESH-INTERVAL;VALUE=DURATION:PT1H
X-Robots-Tag:noindex
X-PUBLISHED-TTL:PT1H
BEGIN:VTIMEZONE
TZID:America/Chicago
BEGIN:DAYLIGHT
TZOFFSETFROM:-0600
TZOFFSETTO:-0500
TZNAME:CDT
DTSTART:20240310T080000
END:DAYLIGHT
BEGIN:STANDARD
TZOFFSETFROM:-0500
TZOFFSETTO:-0600
TZNAME:CST
DTSTART:20241103T070000
END:STANDARD
BEGIN:DAYLIGHT
TZOFFSETFROM:-0600
TZOFFSETTO:-0500
TZNAME:CDT
DTSTART:20250309T080000
END:DAYLIGHT
BEGIN:STANDARD
TZOFFSETFROM:-0500
TZOFFSETTO:-0600
TZNAME:CST
DTSTART:20251102T070000
END:STANDARD
BEGIN:DAYLIGHT
TZOFFSETFROM:-0600
TZOFFSETTO:-0500
TZNAME:CDT
DTSTART:20260308T080000
END:DAYLIGHT
BEGIN:STANDARD
TZOFFSETFROM:-0500
TZOFFSETTO:-0600
TZNAME:CST
DTSTART:20261101T070000
END:STANDARD
END:VTIMEZONE
BEGIN:VEVENT
DTSTART;TZID=America/Chicago:20250819T090000
DTEND;TZID=America/Chicago:20250819T160000
DTSTAMP:20260420T013731
CREATED:20250731T130345Z
LAST-MODIFIED:20250731T130539Z
UID:10020653-1755594000-1755619200@www.region5mentalhealth.com
SUMMARY:Morrison County Drop-in Center
DESCRIPTION:Morrison County Drop-in Center has daily activities open to the public Monday-Friday from 9:00am- 4:00pm. \nVisit the Drop-in Center at 120 E. Broadway\, Little Falls\, MN 56345 \nPlease click this link to get to the June 2025 Calendar (Peer) \nReach out to Pam at pama@orhwv.com for any questions. \nAugust 2025 Calendar
URL:https://www.region5mentalhealth.com/event/morrison-county-drop-in-center-16/2025-08-19/
LOCATION:Morrison County Drop-in Center\, 120 E. Broadway\, Little Falls\, Minnesota\, 56345
END:VEVENT
BEGIN:VEVENT
DTSTART;TZID=America/Chicago:20250818T130000
DTEND;TZID=America/Chicago:20250818T140000
DTSTAMP:20260420T013731
CREATED:20250131T194042Z
LAST-MODIFIED:20250131T194042Z
UID:10020077-1755522000-1755525600@www.region5mentalhealth.com
SUMMARY:Crow Wing County Local Advisory Council Meeting
DESCRIPTION:Third Monday of even months \nJoin us at 1:00pm \nVirtually only via Zoom
URL:https://www.region5mentalhealth.com/event/crow-wing-county-local-advisory-council-meeting/2025-08-18/
LOCATION:https://zoom.us/meeting/tJIofuCrqT8iEtC3xV9eUhvpqBhYMWUmaaTO/ics?icsToken=98tyKuCuqzIjGdORuBGDRowAGYr4XenwtilHj7d-zwfTWiVmahXmJ8BKC59IJdXR
END:VEVENT
BEGIN:VEVENT
DTSTART;TZID=America/Chicago:20250818T090000
DTEND;TZID=America/Chicago:20250818T160000
DTSTAMP:20260420T013731
CREATED:20250731T130345Z
LAST-MODIFIED:20250731T130539Z
UID:10020652-1755507600-1755532800@www.region5mentalhealth.com
SUMMARY:Morrison County Drop-in Center
DESCRIPTION:Morrison County Drop-in Center has daily activities open to the public Monday-Friday from 9:00am- 4:00pm. \nVisit the Drop-in Center at 120 E. Broadway\, Little Falls\, MN 56345 \nPlease click this link to get to the June 2025 Calendar (Peer) \nReach out to Pam at pama@orhwv.com for any questions. \nAugust 2025 Calendar
URL:https://www.region5mentalhealth.com/event/morrison-county-drop-in-center-16/2025-08-18/
LOCATION:Morrison County Drop-in Center\, 120 E. Broadway\, Little Falls\, Minnesota\, 56345
END:VEVENT
BEGIN:VEVENT
DTSTART;TZID=America/Chicago:20250815T090000
DTEND;TZID=America/Chicago:20250815T160000
DTSTAMP:20260420T013731
CREATED:20250731T130345Z
LAST-MODIFIED:20250731T130539Z
UID:10020651-1755248400-1755273600@www.region5mentalhealth.com
SUMMARY:Morrison County Drop-in Center
DESCRIPTION:Morrison County Drop-in Center has daily activities open to the public Monday-Friday from 9:00am- 4:00pm. \nVisit the Drop-in Center at 120 E. Broadway\, Little Falls\, MN 56345 \nPlease click this link to get to the June 2025 Calendar (Peer) \nReach out to Pam at pama@orhwv.com for any questions. \nAugust 2025 Calendar
URL:https://www.region5mentalhealth.com/event/morrison-county-drop-in-center-16/2025-08-15/
LOCATION:Morrison County Drop-in Center\, 120 E. Broadway\, Little Falls\, Minnesota\, 56345
END:VEVENT
BEGIN:VEVENT
DTSTART;TZID=America/Chicago:20250814T150000
DTEND;TZID=America/Chicago:20250814T190000
DTSTAMP:20260420T013731
CREATED:20250617T195452Z
LAST-MODIFIED:20250617T195452Z
UID:10020246-1755183600-1755198000@www.region5mentalhealth.com
SUMMARY:2025 Miles for Smiles 5K
DESCRIPTION:Smiles for Jake is happy to announce the twelfth annual Miles for Smiles 5K. Runners\, walkers\, bikers welcome\, but if you don’t wish to race\, there will be outside activities\, like chalk\, beanbags and more! \nPlease register with the QR code on the attachment below. \n2025MilesforSmilesPost FINAL
URL:https://www.region5mentalhealth.com/event/2025-miles-for-smiles-5k/
LOCATION:Forestview Middle School\, 12149 Knollwood Dr\, Baxter\, MN\, 56425\, United States
END:VEVENT
BEGIN:VEVENT
DTSTART;TZID=America/Chicago:20250814T090000
DTEND;TZID=America/Chicago:20250814T160000
DTSTAMP:20260420T013731
CREATED:20250731T130345Z
LAST-MODIFIED:20250731T130539Z
UID:10020650-1755162000-1755187200@www.region5mentalhealth.com
SUMMARY:Morrison County Drop-in Center
DESCRIPTION:Morrison County Drop-in Center has daily activities open to the public Monday-Friday from 9:00am- 4:00pm. \nVisit the Drop-in Center at 120 E. Broadway\, Little Falls\, MN 56345 \nPlease click this link to get to the June 2025 Calendar (Peer) \nReach out to Pam at pama@orhwv.com for any questions. \nAugust 2025 Calendar
URL:https://www.region5mentalhealth.com/event/morrison-county-drop-in-center-16/2025-08-14/
LOCATION:Morrison County Drop-in Center\, 120 E. Broadway\, Little Falls\, Minnesota\, 56345
END:VEVENT
BEGIN:VEVENT
DTSTART;TZID=America/Chicago:20250813T120000
DTEND;TZID=America/Chicago:20250813T133000
DTSTAMP:20260420T013731
CREATED:20241023T011555Z
LAST-MODIFIED:20241023T011555Z
UID:10019625-1755086400-1755091800@www.region5mentalhealth.com
SUMMARY:Connect Effect
DESCRIPTION:STAY CONNECTED \nClick here for more information.
URL:https://www.region5mentalhealth.com/event/connect-effect/2025-08-13/
LOCATION:Minnesota
END:VEVENT
BEGIN:VEVENT
DTSTART;TZID=America/Chicago:20250813T090000
DTEND;TZID=America/Chicago:20250813T160000
DTSTAMP:20260420T013731
CREATED:20250731T130345Z
LAST-MODIFIED:20250731T130539Z
UID:10020649-1755075600-1755100800@www.region5mentalhealth.com
SUMMARY:Morrison County Drop-in Center
DESCRIPTION:Morrison County Drop-in Center has daily activities open to the public Monday-Friday from 9:00am- 4:00pm. \nVisit the Drop-in Center at 120 E. Broadway\, Little Falls\, MN 56345 \nPlease click this link to get to the June 2025 Calendar (Peer) \nReach out to Pam at pama@orhwv.com for any questions. \nAugust 2025 Calendar
URL:https://www.region5mentalhealth.com/event/morrison-county-drop-in-center-16/2025-08-13/
LOCATION:Morrison County Drop-in Center\, 120 E. Broadway\, Little Falls\, Minnesota\, 56345
END:VEVENT
BEGIN:VEVENT
DTSTART;TZID=America/Chicago:20250812T141500
DTEND;TZID=America/Chicago:20250812T151500
DTSTAMP:20260420T013731
CREATED:20250213T143624Z
LAST-MODIFIED:20250213T144032Z
UID:10020113-1755008100-1755011700@www.region5mentalhealth.com
SUMMARY:Morrison County Local Advisory Council Meeting
DESCRIPTION:Second Tuesday of even months \n2:15pm \nVirtually only via Microsoft Teams \n 
URL:https://www.region5mentalhealth.com/event/morrison-county-local-advisory-council-meeting-2/2025-08-12/
LOCATION:https://teams.microsoft.com/l/meetup-join/19%3ameeting_MGUzZjI5MGQtYThiYi00ODdlLWE5ZmMtOTdkYjRjZDUyYjEx%40thread.v2/0?context=%7b%22Tid%22%3a%227945f05f-61f8-4105-9a8d-d63bb2e42646%22%2c%22Oid%22%3a%22f4b15fac-d9b4-41ce-a337-df50a91ef48a%22%7d
END:VEVENT
BEGIN:VEVENT
DTSTART;TZID=America/Chicago:20250812T120000
DTEND;TZID=America/Chicago:20250812T133000
DTSTAMP:20260420T013731
CREATED:20241023T011555Z
LAST-MODIFIED:20241023T011555Z
UID:10019624-1755000000-1755005400@www.region5mentalhealth.com
SUMMARY:Connect Effect
DESCRIPTION:STAY CONNECTED \nClick here for more information.
URL:https://www.region5mentalhealth.com/event/connect-effect/2025-08-12/
LOCATION:Minnesota
END:VEVENT
BEGIN:VEVENT
DTSTART;TZID=America/Chicago:20250812T090000
DTEND;TZID=America/Chicago:20250812T160000
DTSTAMP:20260420T013731
CREATED:20250731T130345Z
LAST-MODIFIED:20250731T130539Z
UID:10020648-1754989200-1755014400@www.region5mentalhealth.com
SUMMARY:Morrison County Drop-in Center
DESCRIPTION:Morrison County Drop-in Center has daily activities open to the public Monday-Friday from 9:00am- 4:00pm. \nVisit the Drop-in Center at 120 E. Broadway\, Little Falls\, MN 56345 \nPlease click this link to get to the June 2025 Calendar (Peer) \nReach out to Pam at pama@orhwv.com for any questions. \nAugust 2025 Calendar
URL:https://www.region5mentalhealth.com/event/morrison-county-drop-in-center-16/2025-08-12/
LOCATION:Morrison County Drop-in Center\, 120 E. Broadway\, Little Falls\, Minnesota\, 56345
END:VEVENT
BEGIN:VEVENT
DTSTART;TZID=America/Chicago:20250811T133000
DTEND;TZID=America/Chicago:20250811T150000
DTSTAMP:20260420T013731
CREATED:20250319T130944Z
LAST-MODIFIED:20250319T130944Z
UID:10020153-1754919000-1754924400@www.region5mentalhealth.com
SUMMARY:Telling Your Story with Data
DESCRIPTION:Explore ways for community leaders to share their stories with data:\n• Discuss the ways you use your numbers\n• Showcase different ways to portray your data\n• Highlight essential components of quality tables and charts\n• Using stories to complement the numerical data\nPresenters will interactively share how to showcase data accurately. Discussion will include ways to incorporate how to use quantitative (numbers) and qualitative (narratives) to tell your story. \nFor event information contact: melissa.lyon@cmcoa.org \nCMCOA.data8.2025fnl
URL:https://www.region5mentalhealth.com/event/telling-your-story-with-data/
LOCATION:
END:VEVENT
BEGIN:VEVENT
DTSTART;TZID=America/Chicago:20250811T090000
DTEND;TZID=America/Chicago:20250811T160000
DTSTAMP:20260420T013731
CREATED:20250731T130345Z
LAST-MODIFIED:20250731T130539Z
UID:10020647-1754902800-1754928000@www.region5mentalhealth.com
SUMMARY:Morrison County Drop-in Center
DESCRIPTION:Morrison County Drop-in Center has daily activities open to the public Monday-Friday from 9:00am- 4:00pm. \nVisit the Drop-in Center at 120 E. Broadway\, Little Falls\, MN 56345 \nPlease click this link to get to the June 2025 Calendar (Peer) \nReach out to Pam at pama@orhwv.com for any questions. \nAugust 2025 Calendar
URL:https://www.region5mentalhealth.com/event/morrison-county-drop-in-center-16/2025-08-11/
LOCATION:Morrison County Drop-in Center\, 120 E. Broadway\, Little Falls\, Minnesota\, 56345
END:VEVENT
BEGIN:VEVENT
DTSTART;TZID=America/Chicago:20250808T090000
DTEND;TZID=America/Chicago:20250808T160000
DTSTAMP:20260420T013731
CREATED:20250731T130345Z
LAST-MODIFIED:20250731T130539Z
UID:10020646-1754643600-1754668800@www.region5mentalhealth.com
SUMMARY:Morrison County Drop-in Center
DESCRIPTION:Morrison County Drop-in Center has daily activities open to the public Monday-Friday from 9:00am- 4:00pm. \nVisit the Drop-in Center at 120 E. Broadway\, Little Falls\, MN 56345 \nPlease click this link to get to the June 2025 Calendar (Peer) \nReach out to Pam at pama@orhwv.com for any questions. \nAugust 2025 Calendar
URL:https://www.region5mentalhealth.com/event/morrison-county-drop-in-center-16/2025-08-08/
LOCATION:Morrison County Drop-in Center\, 120 E. Broadway\, Little Falls\, Minnesota\, 56345
END:VEVENT
BEGIN:VEVENT
DTSTART;TZID=America/Chicago:20250807T090000
DTEND;TZID=America/Chicago:20250807T160000
DTSTAMP:20260420T013731
CREATED:20250731T130345Z
LAST-MODIFIED:20250731T130539Z
UID:10020645-1754557200-1754582400@www.region5mentalhealth.com
SUMMARY:Morrison County Drop-in Center
DESCRIPTION:Morrison County Drop-in Center has daily activities open to the public Monday-Friday from 9:00am- 4:00pm. \nVisit the Drop-in Center at 120 E. Broadway\, Little Falls\, MN 56345 \nPlease click this link to get to the June 2025 Calendar (Peer) \nReach out to Pam at pama@orhwv.com for any questions. \nAugust 2025 Calendar
URL:https://www.region5mentalhealth.com/event/morrison-county-drop-in-center-16/2025-08-07/
LOCATION:Morrison County Drop-in Center\, 120 E. Broadway\, Little Falls\, Minnesota\, 56345
END:VEVENT
BEGIN:VEVENT
DTSTART;TZID=America/Chicago:20250806T120000
DTEND;TZID=America/Chicago:20250806T133000
DTSTAMP:20260420T013731
CREATED:20241023T011555Z
LAST-MODIFIED:20241023T011555Z
UID:10019623-1754481600-1754487000@www.region5mentalhealth.com
SUMMARY:Connect Effect
DESCRIPTION:STAY CONNECTED \nClick here for more information.
URL:https://www.region5mentalhealth.com/event/connect-effect/2025-08-06/
LOCATION:Minnesota
END:VEVENT
BEGIN:VEVENT
DTSTART;TZID=America/Chicago:20250806T090000
DTEND;TZID=America/Chicago:20250806T160000
DTSTAMP:20260420T013731
CREATED:20250731T130345Z
LAST-MODIFIED:20250731T130539Z
UID:10020644-1754470800-1754496000@www.region5mentalhealth.com
SUMMARY:Morrison County Drop-in Center
DESCRIPTION:Morrison County Drop-in Center has daily activities open to the public Monday-Friday from 9:00am- 4:00pm. \nVisit the Drop-in Center at 120 E. Broadway\, Little Falls\, MN 56345 \nPlease click this link to get to the June 2025 Calendar (Peer) \nReach out to Pam at pama@orhwv.com for any questions. \nAugust 2025 Calendar
URL:https://www.region5mentalhealth.com/event/morrison-county-drop-in-center-16/2025-08-06/
LOCATION:Morrison County Drop-in Center\, 120 E. Broadway\, Little Falls\, Minnesota\, 56345
END:VEVENT
BEGIN:VEVENT
DTSTART;TZID=America/Chicago:20250805T120000
DTEND;TZID=America/Chicago:20250805T133000
DTSTAMP:20260420T013731
CREATED:20241023T011555Z
LAST-MODIFIED:20241023T011555Z
UID:10019622-1754395200-1754400600@www.region5mentalhealth.com
SUMMARY:Connect Effect
DESCRIPTION:STAY CONNECTED \nClick here for more information.
URL:https://www.region5mentalhealth.com/event/connect-effect/2025-08-05/
LOCATION:Minnesota
END:VEVENT
BEGIN:VEVENT
DTSTART;TZID=America/Chicago:20250805T090000
DTEND;TZID=America/Chicago:20250805T160000
DTSTAMP:20260420T013731
CREATED:20250731T130345Z
LAST-MODIFIED:20250731T130539Z
UID:10020643-1754384400-1754409600@www.region5mentalhealth.com
SUMMARY:Morrison County Drop-in Center
DESCRIPTION:Morrison County Drop-in Center has daily activities open to the public Monday-Friday from 9:00am- 4:00pm. \nVisit the Drop-in Center at 120 E. Broadway\, Little Falls\, MN 56345 \nPlease click this link to get to the June 2025 Calendar (Peer) \nReach out to Pam at pama@orhwv.com for any questions. \nAugust 2025 Calendar
URL:https://www.region5mentalhealth.com/event/morrison-county-drop-in-center-16/2025-08-05/
LOCATION:Morrison County Drop-in Center\, 120 E. Broadway\, Little Falls\, Minnesota\, 56345
END:VEVENT
BEGIN:VEVENT
DTSTART;TZID=America/Chicago:20250805T090000
DTEND;TZID=America/Chicago:20250805T150000
DTSTAMP:20260420T013731
CREATED:20231228T221526Z
LAST-MODIFIED:20231228T222144Z
UID:10015685-1754384400-1754406000@www.region5mentalhealth.com
SUMMARY:Region V+ AMHI Executive Committee Meetings
DESCRIPTION:Region V+ AMHI Executive Committee meets monthly on the first Tuesday of each month from 9am-3pm\, if otherwise not stated. Meetings are held hybrid with options to join virtually via Microsoft Teams or Webex and in person at Sourcewell. \nSourcewell\n202 12th St NE\nStaples\, MN 56479 \nFor more information on meetings please reach out to Danielle Wadsworth\, Region V+ AMHI Coordinator\, at danielle.wadsworth@sourcewell-mn.gov.
URL:https://www.region5mentalhealth.com/event/region-v-amhi-executive-committee-meetings/2025-08-05/
LOCATION:Sourcewell\, 202 12th Street NE\, Staples\, MN\, 56479\, United States
ORGANIZER;CN="Danielle Wadsworth":MAILTO:danielle.wadsworth@sourcewell-mn.gov
END:VEVENT
BEGIN:VEVENT
DTSTART;TZID=America/Chicago:20250804T090000
DTEND;TZID=America/Chicago:20250804T160000
DTSTAMP:20260420T013731
CREATED:20250731T130345Z
LAST-MODIFIED:20250731T130539Z
UID:10020642-1754298000-1754323200@www.region5mentalhealth.com
SUMMARY:Morrison County Drop-in Center
DESCRIPTION:Morrison County Drop-in Center has daily activities open to the public Monday-Friday from 9:00am- 4:00pm. \nVisit the Drop-in Center at 120 E. Broadway\, Little Falls\, MN 56345 \nPlease click this link to get to the June 2025 Calendar (Peer) \nReach out to Pam at pama@orhwv.com for any questions. \nAugust 2025 Calendar
URL:https://www.region5mentalhealth.com/event/morrison-county-drop-in-center-16/2025-08-04/
LOCATION:Morrison County Drop-in Center\, 120 E. Broadway\, Little Falls\, Minnesota\, 56345
END:VEVENT
BEGIN:VEVENT
DTSTART;TZID=America/Chicago:20250801T090000
DTEND;TZID=America/Chicago:20250801T170000
DTSTAMP:20260420T013731
CREATED:20241023T010307Z
LAST-MODIFIED:20241023T010430Z
UID:10019538-1754038800-1754067600@www.region5mentalhealth.com
SUMMARY:Wellness in the Woods- Virtual Peer Support Network
DESCRIPTION:Check out Wellness in the Woods Virtual Peer Support Network. Available daily 9:00am-5:00pm. \nTo join go to Wellness in the Woods website: www.mnwitw.org\nUser Zoom ID: 439 275 1585 \nPlease visit the Wellness in the Woods website for calendar events.
URL:https://www.region5mentalhealth.com/event/wellness-in-the-woods-virtual-peer-support-network-8/2025-08-01/
LOCATION:Minnesota
END:VEVENT
BEGIN:VEVENT
DTSTART;TZID=America/Chicago:20250801T090000
DTEND;TZID=America/Chicago:20250801T160000
DTSTAMP:20260420T013731
CREATED:20250731T130345Z
LAST-MODIFIED:20250731T130539Z
UID:10020641-1754038800-1754064000@www.region5mentalhealth.com
SUMMARY:Morrison County Drop-in Center
DESCRIPTION:Morrison County Drop-in Center has daily activities open to the public Monday-Friday from 9:00am- 4:00pm. \nVisit the Drop-in Center at 120 E. Broadway\, Little Falls\, MN 56345 \nPlease click this link to get to the June 2025 Calendar (Peer) \nReach out to Pam at pama@orhwv.com for any questions. \nAugust 2025 Calendar
URL:https://www.region5mentalhealth.com/event/morrison-county-drop-in-center-16/2025-08-01/
LOCATION:Morrison County Drop-in Center\, 120 E. Broadway\, Little Falls\, Minnesota\, 56345
END:VEVENT
BEGIN:VEVENT
DTSTART;TZID=America/Chicago:20250731T090000
DTEND;TZID=America/Chicago:20250731T170000
DTSTAMP:20260420T013731
CREATED:20241023T010307Z
LAST-MODIFIED:20241023T010430Z
UID:10019537-1753952400-1753981200@www.region5mentalhealth.com
SUMMARY:Wellness in the Woods- Virtual Peer Support Network
DESCRIPTION:Check out Wellness in the Woods Virtual Peer Support Network. Available daily 9:00am-5:00pm. \nTo join go to Wellness in the Woods website: www.mnwitw.org\nUser Zoom ID: 439 275 1585 \nPlease visit the Wellness in the Woods website for calendar events.
URL:https://www.region5mentalhealth.com/event/wellness-in-the-woods-virtual-peer-support-network-8/2025-07-31/
LOCATION:Minnesota
END:VEVENT
BEGIN:VEVENT
DTSTART;TZID=America/Chicago:20250731T090000
DTEND;TZID=America/Chicago:20250731T160000
DTSTAMP:20260420T013731
CREATED:20250702T164026Z
LAST-MODIFIED:20250702T164026Z
UID:10020269-1753952400-1753977600@www.region5mentalhealth.com
SUMMARY:Morrison County Drop-in Center
DESCRIPTION:Morrison County Drop-in Center has daily activities open to the public Monday-Friday from 9:00am- 4:00pm. \nVisit the Drop-in Center at 120 E. Broadway\, Little Falls\, MN 56345 \nPlease click this link to get to the July 2025 Calendar \nReach out to Pam at pama@orhwv.com for any questions.
URL:https://www.region5mentalhealth.com/event/morrison-county-drop-in-center-15/2025-07-31/
LOCATION:Morrison County Drop-in Center\, 120 E. Broadway\, Little Falls\, Minnesota\, 56345
END:VEVENT
BEGIN:VEVENT
DTSTART;TZID=America/Chicago:20250730T120000
DTEND;TZID=America/Chicago:20250730T133000
DTSTAMP:20260420T013731
CREATED:20241023T011555Z
LAST-MODIFIED:20241023T011555Z
UID:10019621-1753876800-1753882200@www.region5mentalhealth.com
SUMMARY:Connect Effect
DESCRIPTION:STAY CONNECTED \nClick here for more information.
URL:https://www.region5mentalhealth.com/event/connect-effect/2025-07-30/
LOCATION:Minnesota
END:VEVENT
BEGIN:VEVENT
DTSTART;TZID=America/Chicago:20250730T090000
DTEND;TZID=America/Chicago:20250730T170000
DTSTAMP:20260420T013731
CREATED:20241023T010307Z
LAST-MODIFIED:20241023T010430Z
UID:10019536-1753866000-1753894800@www.region5mentalhealth.com
SUMMARY:Wellness in the Woods- Virtual Peer Support Network
DESCRIPTION:Check out Wellness in the Woods Virtual Peer Support Network. Available daily 9:00am-5:00pm. \nTo join go to Wellness in the Woods website: www.mnwitw.org\nUser Zoom ID: 439 275 1585 \nPlease visit the Wellness in the Woods website for calendar events.
URL:https://www.region5mentalhealth.com/event/wellness-in-the-woods-virtual-peer-support-network-8/2025-07-30/
LOCATION:Minnesota
END:VEVENT
BEGIN:VEVENT
DTSTART;TZID=America/Chicago:20250730T090000
DTEND;TZID=America/Chicago:20250730T160000
DTSTAMP:20260420T013731
CREATED:20250702T164026Z
LAST-MODIFIED:20250702T164026Z
UID:10020268-1753866000-1753891200@www.region5mentalhealth.com
SUMMARY:Morrison County Drop-in Center
DESCRIPTION:Morrison County Drop-in Center has daily activities open to the public Monday-Friday from 9:00am- 4:00pm. \nVisit the Drop-in Center at 120 E. Broadway\, Little Falls\, MN 56345 \nPlease click this link to get to the July 2025 Calendar \nReach out to Pam at pama@orhwv.com for any questions.
URL:https://www.region5mentalhealth.com/event/morrison-county-drop-in-center-15/2025-07-30/
LOCATION:Morrison County Drop-in Center\, 120 E. Broadway\, Little Falls\, Minnesota\, 56345
END:VEVENT
BEGIN:VEVENT
DTSTART;TZID=America/Chicago:20250729T120000
DTEND;TZID=America/Chicago:20250729T133000
DTSTAMP:20260420T013731
CREATED:20241023T011555Z
LAST-MODIFIED:20241023T011555Z
UID:10019620-1753790400-1753795800@www.region5mentalhealth.com
SUMMARY:Connect Effect
DESCRIPTION:STAY CONNECTED \nClick here for more information.
URL:https://www.region5mentalhealth.com/event/connect-effect/2025-07-29/
LOCATION:Minnesota
END:VEVENT
BEGIN:VEVENT
DTSTART;TZID=America/Chicago:20250729T090000
DTEND;TZID=America/Chicago:20250729T170000
DTSTAMP:20260420T013731
CREATED:20241023T010307Z
LAST-MODIFIED:20241023T010430Z
UID:10019535-1753779600-1753808400@www.region5mentalhealth.com
SUMMARY:Wellness in the Woods- Virtual Peer Support Network
DESCRIPTION:Check out Wellness in the Woods Virtual Peer Support Network. Available daily 9:00am-5:00pm. \nTo join go to Wellness in the Woods website: www.mnwitw.org\nUser Zoom ID: 439 275 1585 \nPlease visit the Wellness in the Woods website for calendar events.
URL:https://www.region5mentalhealth.com/event/wellness-in-the-woods-virtual-peer-support-network-8/2025-07-29/
LOCATION:Minnesota
END:VEVENT
END:VCALENDAR