BEGIN:VCALENDAR
VERSION:2.0
PRODID:-//Region 5+ Mental Health - ECPv6.15.20//NONSGML v1.0//EN
CALSCALE:GREGORIAN
METHOD:PUBLISH
X-ORIGINAL-URL:https://www.region5mentalhealth.com
X-WR-CALDESC:Events for Region 5+ Mental Health
REFRESH-INTERVAL;VALUE=DURATION:PT1H
X-Robots-Tag:noindex
X-PUBLISHED-TTL:PT1H
BEGIN:VTIMEZONE
TZID:America/Chicago
BEGIN:DAYLIGHT
TZOFFSETFROM:-0600
TZOFFSETTO:-0500
TZNAME:CDT
DTSTART:20240310T080000
END:DAYLIGHT
BEGIN:STANDARD
TZOFFSETFROM:-0500
TZOFFSETTO:-0600
TZNAME:CST
DTSTART:20241103T070000
END:STANDARD
BEGIN:DAYLIGHT
TZOFFSETFROM:-0600
TZOFFSETTO:-0500
TZNAME:CDT
DTSTART:20250309T080000
END:DAYLIGHT
BEGIN:STANDARD
TZOFFSETFROM:-0500
TZOFFSETTO:-0600
TZNAME:CST
DTSTART:20251102T070000
END:STANDARD
BEGIN:DAYLIGHT
TZOFFSETFROM:-0600
TZOFFSETTO:-0500
TZNAME:CDT
DTSTART:20260308T080000
END:DAYLIGHT
BEGIN:STANDARD
TZOFFSETFROM:-0500
TZOFFSETTO:-0600
TZNAME:CST
DTSTART:20261101T070000
END:STANDARD
END:VTIMEZONE
BEGIN:VEVENT
DTSTART;TZID=America/Chicago:20250715T090000
DTEND;TZID=America/Chicago:20250715T160000
DTSTAMP:20260420T182631
CREATED:20250702T164026Z
LAST-MODIFIED:20250702T164026Z
UID:10020257-1752570000-1752595200@www.region5mentalhealth.com
SUMMARY:Morrison County Drop-in Center
DESCRIPTION:Morrison County Drop-in Center has daily activities open to the public Monday-Friday from 9:00am- 4:00pm. \nVisit the Drop-in Center at 120 E. Broadway\, Little Falls\, MN 56345 \nPlease click this link to get to the July 2025 Calendar \nReach out to Pam at pama@orhwv.com for any questions.
URL:https://www.region5mentalhealth.com/event/morrison-county-drop-in-center-15/2025-07-15/
LOCATION:Morrison County Drop-in Center\, 120 E. Broadway\, Little Falls\, Minnesota\, 56345
END:VEVENT
BEGIN:VEVENT
DTSTART;TZID=America/Chicago:20250715T090000
DTEND;TZID=America/Chicago:20250715T170000
DTSTAMP:20260420T182631
CREATED:20241023T010307Z
LAST-MODIFIED:20241023T010430Z
UID:10019521-1752570000-1752598800@www.region5mentalhealth.com
SUMMARY:Wellness in the Woods- Virtual Peer Support Network
DESCRIPTION:Check out Wellness in the Woods Virtual Peer Support Network. Available daily 9:00am-5:00pm. \nTo join go to Wellness in the Woods website: www.mnwitw.org\nUser Zoom ID: 439 275 1585 \nPlease visit the Wellness in the Woods website for calendar events.
URL:https://www.region5mentalhealth.com/event/wellness-in-the-woods-virtual-peer-support-network-8/2025-07-15/
LOCATION:MN
END:VEVENT
BEGIN:VEVENT
DTSTART;TZID=America/Chicago:20250715T120000
DTEND;TZID=America/Chicago:20250715T133000
DTSTAMP:20260420T182631
CREATED:20241023T011555Z
LAST-MODIFIED:20241023T011555Z
UID:10019616-1752580800-1752586200@www.region5mentalhealth.com
SUMMARY:Connect Effect
DESCRIPTION:STAY CONNECTED \nClick here for more information.
URL:https://www.region5mentalhealth.com/event/connect-effect/2025-07-15/
LOCATION:MN
END:VEVENT
BEGIN:VEVENT
DTSTART;TZID=America/Chicago:20250716T090000
DTEND;TZID=America/Chicago:20250716T160000
DTSTAMP:20260420T182631
CREATED:20250702T164026Z
LAST-MODIFIED:20250702T164026Z
UID:10020258-1752656400-1752681600@www.region5mentalhealth.com
SUMMARY:Morrison County Drop-in Center
DESCRIPTION:Morrison County Drop-in Center has daily activities open to the public Monday-Friday from 9:00am- 4:00pm. \nVisit the Drop-in Center at 120 E. Broadway\, Little Falls\, MN 56345 \nPlease click this link to get to the July 2025 Calendar \nReach out to Pam at pama@orhwv.com for any questions.
URL:https://www.region5mentalhealth.com/event/morrison-county-drop-in-center-15/2025-07-16/
LOCATION:Morrison County Drop-in Center\, 120 E. Broadway\, Little Falls\, Minnesota\, 56345
END:VEVENT
BEGIN:VEVENT
DTSTART;TZID=America/Chicago:20250716T090000
DTEND;TZID=America/Chicago:20250716T170000
DTSTAMP:20260420T182631
CREATED:20241023T010307Z
LAST-MODIFIED:20241023T010430Z
UID:10019522-1752656400-1752685200@www.region5mentalhealth.com
SUMMARY:Wellness in the Woods- Virtual Peer Support Network
DESCRIPTION:Check out Wellness in the Woods Virtual Peer Support Network. Available daily 9:00am-5:00pm. \nTo join go to Wellness in the Woods website: www.mnwitw.org\nUser Zoom ID: 439 275 1585 \nPlease visit the Wellness in the Woods website for calendar events.
URL:https://www.region5mentalhealth.com/event/wellness-in-the-woods-virtual-peer-support-network-8/2025-07-16/
LOCATION:MN
END:VEVENT
BEGIN:VEVENT
DTSTART;TZID=America/Chicago:20250716T120000
DTEND;TZID=America/Chicago:20250716T133000
DTSTAMP:20260420T182631
CREATED:20241023T011555Z
LAST-MODIFIED:20241023T011555Z
UID:10019617-1752667200-1752672600@www.region5mentalhealth.com
SUMMARY:Connect Effect
DESCRIPTION:STAY CONNECTED \nClick here for more information.
URL:https://www.region5mentalhealth.com/event/connect-effect/2025-07-16/
LOCATION:MN
END:VEVENT
BEGIN:VEVENT
DTSTART;TZID=America/Chicago:20250717T090000
DTEND;TZID=America/Chicago:20250717T100000
DTSTAMP:20260420T182631
CREATED:20250131T194749Z
LAST-MODIFIED:20250131T194749Z
UID:10020088-1752742800-1752746400@www.region5mentalhealth.com
SUMMARY:Todd County Local Advisory Council Meeting
DESCRIPTION:Third Thursday of odd months \n9:00am \nIn-person only at Historic Todd County Courthouse-Prairie Conference Room
URL:https://www.region5mentalhealth.com/event/todd-county-local-advisory-council-meeting/2025-07-17/
LOCATION:Historic Todd County Courthouse – Prairie Conference Room\, 212 2nd Ave S\, Long Prairie\, MN\, 56347\, United States
END:VEVENT
BEGIN:VEVENT
DTSTART;TZID=America/Chicago:20250717T090000
DTEND;TZID=America/Chicago:20250717T160000
DTSTAMP:20260420T182631
CREATED:20250702T164026Z
LAST-MODIFIED:20250702T164026Z
UID:10020259-1752742800-1752768000@www.region5mentalhealth.com
SUMMARY:Morrison County Drop-in Center
DESCRIPTION:Morrison County Drop-in Center has daily activities open to the public Monday-Friday from 9:00am- 4:00pm. \nVisit the Drop-in Center at 120 E. Broadway\, Little Falls\, MN 56345 \nPlease click this link to get to the July 2025 Calendar \nReach out to Pam at pama@orhwv.com for any questions.
URL:https://www.region5mentalhealth.com/event/morrison-county-drop-in-center-15/2025-07-17/
LOCATION:Morrison County Drop-in Center\, 120 E. Broadway\, Little Falls\, Minnesota\, 56345
END:VEVENT
BEGIN:VEVENT
DTSTART;TZID=America/Chicago:20250717T090000
DTEND;TZID=America/Chicago:20250717T170000
DTSTAMP:20260420T182631
CREATED:20241023T010307Z
LAST-MODIFIED:20241023T010430Z
UID:10019523-1752742800-1752771600@www.region5mentalhealth.com
SUMMARY:Wellness in the Woods- Virtual Peer Support Network
DESCRIPTION:Check out Wellness in the Woods Virtual Peer Support Network. Available daily 9:00am-5:00pm. \nTo join go to Wellness in the Woods website: www.mnwitw.org\nUser Zoom ID: 439 275 1585 \nPlease visit the Wellness in the Woods website for calendar events.
URL:https://www.region5mentalhealth.com/event/wellness-in-the-woods-virtual-peer-support-network-8/2025-07-17/
LOCATION:MN
END:VEVENT
BEGIN:VEVENT
DTSTART;TZID=America/Chicago:20250717T130000
DTEND;TZID=America/Chicago:20250717T143000
DTSTAMP:20260420T182631
CREATED:20250416T130432Z
LAST-MODIFIED:20250416T130432Z
UID:10020065-1752757200-1752762600@www.region5mentalhealth.com
SUMMARY:Regional Local Advisory Council Meeting
DESCRIPTION:Please join in person or virtually through the link below. \nVirtual Zoom Link: https://zoom.us/j/97945581421?pwd=yVOBsYf39gifgzWtXj6WdHQXRyy6V3.1
URL:https://www.region5mentalhealth.com/event/regional-local-advisory-council-meeting-2/2025-07-17/
LOCATION:Crisis Line and Referral Service\, 14391 Edgewood Dr Ste 101\, Baxter\, MN\, 56425\, United States
END:VEVENT
BEGIN:VEVENT
DTSTART;TZID=America/Chicago:20250718T090000
DTEND;TZID=America/Chicago:20250718T160000
DTSTAMP:20260420T182631
CREATED:20250702T164026Z
LAST-MODIFIED:20250702T164026Z
UID:10020260-1752829200-1752854400@www.region5mentalhealth.com
SUMMARY:Morrison County Drop-in Center
DESCRIPTION:Morrison County Drop-in Center has daily activities open to the public Monday-Friday from 9:00am- 4:00pm. \nVisit the Drop-in Center at 120 E. Broadway\, Little Falls\, MN 56345 \nPlease click this link to get to the July 2025 Calendar \nReach out to Pam at pama@orhwv.com for any questions.
URL:https://www.region5mentalhealth.com/event/morrison-county-drop-in-center-15/2025-07-18/
LOCATION:Morrison County Drop-in Center\, 120 E. Broadway\, Little Falls\, Minnesota\, 56345
END:VEVENT
BEGIN:VEVENT
DTSTART;TZID=America/Chicago:20250718T090000
DTEND;TZID=America/Chicago:20250718T170000
DTSTAMP:20260420T182631
CREATED:20241023T010307Z
LAST-MODIFIED:20241023T010430Z
UID:10019524-1752829200-1752858000@www.region5mentalhealth.com
SUMMARY:Wellness in the Woods- Virtual Peer Support Network
DESCRIPTION:Check out Wellness in the Woods Virtual Peer Support Network. Available daily 9:00am-5:00pm. \nTo join go to Wellness in the Woods website: www.mnwitw.org\nUser Zoom ID: 439 275 1585 \nPlease visit the Wellness in the Woods website for calendar events.
URL:https://www.region5mentalhealth.com/event/wellness-in-the-woods-virtual-peer-support-network-8/2025-07-18/
LOCATION:MN
END:VEVENT
BEGIN:VEVENT
DTSTART;TZID=America/Chicago:20250719T090000
DTEND;TZID=America/Chicago:20250719T170000
DTSTAMP:20260420T182631
CREATED:20241023T010307Z
LAST-MODIFIED:20241023T010430Z
UID:10019525-1752915600-1752944400@www.region5mentalhealth.com
SUMMARY:Wellness in the Woods- Virtual Peer Support Network
DESCRIPTION:Check out Wellness in the Woods Virtual Peer Support Network. Available daily 9:00am-5:00pm. \nTo join go to Wellness in the Woods website: www.mnwitw.org\nUser Zoom ID: 439 275 1585 \nPlease visit the Wellness in the Woods website for calendar events.
URL:https://www.region5mentalhealth.com/event/wellness-in-the-woods-virtual-peer-support-network-8/2025-07-19/
LOCATION:MN
END:VEVENT
BEGIN:VEVENT
DTSTART;TZID=America/Chicago:20250720T090000
DTEND;TZID=America/Chicago:20250720T170000
DTSTAMP:20260420T182631
CREATED:20241023T010307Z
LAST-MODIFIED:20241023T010430Z
UID:10019526-1753002000-1753030800@www.region5mentalhealth.com
SUMMARY:Wellness in the Woods- Virtual Peer Support Network
DESCRIPTION:Check out Wellness in the Woods Virtual Peer Support Network. Available daily 9:00am-5:00pm. \nTo join go to Wellness in the Woods website: www.mnwitw.org\nUser Zoom ID: 439 275 1585 \nPlease visit the Wellness in the Woods website for calendar events.
URL:https://www.region5mentalhealth.com/event/wellness-in-the-woods-virtual-peer-support-network-8/2025-07-20/
LOCATION:MN
END:VEVENT
BEGIN:VEVENT
DTSTART;TZID=America/Chicago:20250721T090000
DTEND;TZID=America/Chicago:20250721T160000
DTSTAMP:20260420T182631
CREATED:20250702T164026Z
LAST-MODIFIED:20250702T164026Z
UID:10020261-1753088400-1753113600@www.region5mentalhealth.com
SUMMARY:Morrison County Drop-in Center
DESCRIPTION:Morrison County Drop-in Center has daily activities open to the public Monday-Friday from 9:00am- 4:00pm. \nVisit the Drop-in Center at 120 E. Broadway\, Little Falls\, MN 56345 \nPlease click this link to get to the July 2025 Calendar \nReach out to Pam at pama@orhwv.com for any questions.
URL:https://www.region5mentalhealth.com/event/morrison-county-drop-in-center-15/2025-07-21/
LOCATION:Morrison County Drop-in Center\, 120 E. Broadway\, Little Falls\, Minnesota\, 56345
END:VEVENT
BEGIN:VEVENT
DTSTART;TZID=America/Chicago:20250721T090000
DTEND;TZID=America/Chicago:20250721T170000
DTSTAMP:20260420T182631
CREATED:20241023T010307Z
LAST-MODIFIED:20241023T010430Z
UID:10019527-1753088400-1753117200@www.region5mentalhealth.com
SUMMARY:Wellness in the Woods- Virtual Peer Support Network
DESCRIPTION:Check out Wellness in the Woods Virtual Peer Support Network. Available daily 9:00am-5:00pm. \nTo join go to Wellness in the Woods website: www.mnwitw.org\nUser Zoom ID: 439 275 1585 \nPlease visit the Wellness in the Woods website for calendar events.
URL:https://www.region5mentalhealth.com/event/wellness-in-the-woods-virtual-peer-support-network-8/2025-07-21/
LOCATION:MN
END:VEVENT
BEGIN:VEVENT
DTSTART;TZID=America/Chicago:20250722T090000
DTEND;TZID=America/Chicago:20250722T160000
DTSTAMP:20260420T182631
CREATED:20250702T164026Z
LAST-MODIFIED:20250702T164026Z
UID:10020262-1753174800-1753200000@www.region5mentalhealth.com
SUMMARY:Morrison County Drop-in Center
DESCRIPTION:Morrison County Drop-in Center has daily activities open to the public Monday-Friday from 9:00am- 4:00pm. \nVisit the Drop-in Center at 120 E. Broadway\, Little Falls\, MN 56345 \nPlease click this link to get to the July 2025 Calendar \nReach out to Pam at pama@orhwv.com for any questions.
URL:https://www.region5mentalhealth.com/event/morrison-county-drop-in-center-15/2025-07-22/
LOCATION:Morrison County Drop-in Center\, 120 E. Broadway\, Little Falls\, Minnesota\, 56345
END:VEVENT
BEGIN:VEVENT
DTSTART;TZID=America/Chicago:20250722T090000
DTEND;TZID=America/Chicago:20250722T170000
DTSTAMP:20260420T182631
CREATED:20241023T010307Z
LAST-MODIFIED:20241023T010430Z
UID:10019528-1753174800-1753203600@www.region5mentalhealth.com
SUMMARY:Wellness in the Woods- Virtual Peer Support Network
DESCRIPTION:Check out Wellness in the Woods Virtual Peer Support Network. Available daily 9:00am-5:00pm. \nTo join go to Wellness in the Woods website: www.mnwitw.org\nUser Zoom ID: 439 275 1585 \nPlease visit the Wellness in the Woods website for calendar events.
URL:https://www.region5mentalhealth.com/event/wellness-in-the-woods-virtual-peer-support-network-8/2025-07-22/
LOCATION:MN
END:VEVENT
BEGIN:VEVENT
DTSTART;TZID=America/Chicago:20250722T120000
DTEND;TZID=America/Chicago:20250722T133000
DTSTAMP:20260420T182631
CREATED:20241023T011555Z
LAST-MODIFIED:20241023T011555Z
UID:10019618-1753185600-1753191000@www.region5mentalhealth.com
SUMMARY:Connect Effect
DESCRIPTION:STAY CONNECTED \nClick here for more information.
URL:https://www.region5mentalhealth.com/event/connect-effect/2025-07-22/
LOCATION:MN
END:VEVENT
BEGIN:VEVENT
DTSTART;TZID=America/Chicago:20250723T090000
DTEND;TZID=America/Chicago:20250723T160000
DTSTAMP:20260420T182631
CREATED:20250702T164026Z
LAST-MODIFIED:20250702T164026Z
UID:10020263-1753261200-1753286400@www.region5mentalhealth.com
SUMMARY:Morrison County Drop-in Center
DESCRIPTION:Morrison County Drop-in Center has daily activities open to the public Monday-Friday from 9:00am- 4:00pm. \nVisit the Drop-in Center at 120 E. Broadway\, Little Falls\, MN 56345 \nPlease click this link to get to the July 2025 Calendar \nReach out to Pam at pama@orhwv.com for any questions.
URL:https://www.region5mentalhealth.com/event/morrison-county-drop-in-center-15/2025-07-23/
LOCATION:Morrison County Drop-in Center\, 120 E. Broadway\, Little Falls\, Minnesota\, 56345
END:VEVENT
BEGIN:VEVENT
DTSTART;TZID=America/Chicago:20250723T090000
DTEND;TZID=America/Chicago:20250723T170000
DTSTAMP:20260420T182631
CREATED:20241023T010307Z
LAST-MODIFIED:20241023T010430Z
UID:10019529-1753261200-1753290000@www.region5mentalhealth.com
SUMMARY:Wellness in the Woods- Virtual Peer Support Network
DESCRIPTION:Check out Wellness in the Woods Virtual Peer Support Network. Available daily 9:00am-5:00pm. \nTo join go to Wellness in the Woods website: www.mnwitw.org\nUser Zoom ID: 439 275 1585 \nPlease visit the Wellness in the Woods website for calendar events.
URL:https://www.region5mentalhealth.com/event/wellness-in-the-woods-virtual-peer-support-network-8/2025-07-23/
LOCATION:MN
END:VEVENT
BEGIN:VEVENT
DTSTART;TZID=America/Chicago:20250723T120000
DTEND;TZID=America/Chicago:20250723T133000
DTSTAMP:20260420T182631
CREATED:20241023T011555Z
LAST-MODIFIED:20241023T011555Z
UID:10019619-1753272000-1753277400@www.region5mentalhealth.com
SUMMARY:Connect Effect
DESCRIPTION:STAY CONNECTED \nClick here for more information.
URL:https://www.region5mentalhealth.com/event/connect-effect/2025-07-23/
LOCATION:MN
END:VEVENT
BEGIN:VEVENT
DTSTART;TZID=America/Chicago:20250724T090000
DTEND;TZID=America/Chicago:20250724T160000
DTSTAMP:20260420T182631
CREATED:20250702T164026Z
LAST-MODIFIED:20250702T164026Z
UID:10020264-1753347600-1753372800@www.region5mentalhealth.com
SUMMARY:Morrison County Drop-in Center
DESCRIPTION:Morrison County Drop-in Center has daily activities open to the public Monday-Friday from 9:00am- 4:00pm. \nVisit the Drop-in Center at 120 E. Broadway\, Little Falls\, MN 56345 \nPlease click this link to get to the July 2025 Calendar \nReach out to Pam at pama@orhwv.com for any questions.
URL:https://www.region5mentalhealth.com/event/morrison-county-drop-in-center-15/2025-07-24/
LOCATION:Morrison County Drop-in Center\, 120 E. Broadway\, Little Falls\, Minnesota\, 56345
END:VEVENT
BEGIN:VEVENT
DTSTART;TZID=America/Chicago:20250724T090000
DTEND;TZID=America/Chicago:20250724T170000
DTSTAMP:20260420T182631
CREATED:20241023T010307Z
LAST-MODIFIED:20241023T010430Z
UID:10019530-1753347600-1753376400@www.region5mentalhealth.com
SUMMARY:Wellness in the Woods- Virtual Peer Support Network
DESCRIPTION:Check out Wellness in the Woods Virtual Peer Support Network. Available daily 9:00am-5:00pm. \nTo join go to Wellness in the Woods website: www.mnwitw.org\nUser Zoom ID: 439 275 1585 \nPlease visit the Wellness in the Woods website for calendar events.
URL:https://www.region5mentalhealth.com/event/wellness-in-the-woods-virtual-peer-support-network-8/2025-07-24/
LOCATION:MN
END:VEVENT
BEGIN:VEVENT
DTSTART;TZID=America/Chicago:20250725T090000
DTEND;TZID=America/Chicago:20250725T160000
DTSTAMP:20260420T182631
CREATED:20250702T164026Z
LAST-MODIFIED:20250702T164026Z
UID:10020265-1753434000-1753459200@www.region5mentalhealth.com
SUMMARY:Morrison County Drop-in Center
DESCRIPTION:Morrison County Drop-in Center has daily activities open to the public Monday-Friday from 9:00am- 4:00pm. \nVisit the Drop-in Center at 120 E. Broadway\, Little Falls\, MN 56345 \nPlease click this link to get to the July 2025 Calendar \nReach out to Pam at pama@orhwv.com for any questions.
URL:https://www.region5mentalhealth.com/event/morrison-county-drop-in-center-15/2025-07-25/
LOCATION:Morrison County Drop-in Center\, 120 E. Broadway\, Little Falls\, Minnesota\, 56345
END:VEVENT
BEGIN:VEVENT
DTSTART;TZID=America/Chicago:20250725T090000
DTEND;TZID=America/Chicago:20250725T170000
DTSTAMP:20260420T182631
CREATED:20241023T010307Z
LAST-MODIFIED:20241023T010430Z
UID:10019531-1753434000-1753462800@www.region5mentalhealth.com
SUMMARY:Wellness in the Woods- Virtual Peer Support Network
DESCRIPTION:Check out Wellness in the Woods Virtual Peer Support Network. Available daily 9:00am-5:00pm. \nTo join go to Wellness in the Woods website: www.mnwitw.org\nUser Zoom ID: 439 275 1585 \nPlease visit the Wellness in the Woods website for calendar events.
URL:https://www.region5mentalhealth.com/event/wellness-in-the-woods-virtual-peer-support-network-8/2025-07-25/
LOCATION:MN
END:VEVENT
BEGIN:VEVENT
DTSTART;TZID=America/Chicago:20250726T090000
DTEND;TZID=America/Chicago:20250726T170000
DTSTAMP:20260420T182631
CREATED:20241023T010307Z
LAST-MODIFIED:20241023T010430Z
UID:10019532-1753520400-1753549200@www.region5mentalhealth.com
SUMMARY:Wellness in the Woods- Virtual Peer Support Network
DESCRIPTION:Check out Wellness in the Woods Virtual Peer Support Network. Available daily 9:00am-5:00pm. \nTo join go to Wellness in the Woods website: www.mnwitw.org\nUser Zoom ID: 439 275 1585 \nPlease visit the Wellness in the Woods website for calendar events.
URL:https://www.region5mentalhealth.com/event/wellness-in-the-woods-virtual-peer-support-network-8/2025-07-26/
LOCATION:MN
END:VEVENT
BEGIN:VEVENT
DTSTART;TZID=America/Chicago:20250727T090000
DTEND;TZID=America/Chicago:20250727T170000
DTSTAMP:20260420T182631
CREATED:20241023T010307Z
LAST-MODIFIED:20241023T010430Z
UID:10019533-1753606800-1753635600@www.region5mentalhealth.com
SUMMARY:Wellness in the Woods- Virtual Peer Support Network
DESCRIPTION:Check out Wellness in the Woods Virtual Peer Support Network. Available daily 9:00am-5:00pm. \nTo join go to Wellness in the Woods website: www.mnwitw.org\nUser Zoom ID: 439 275 1585 \nPlease visit the Wellness in the Woods website for calendar events.
URL:https://www.region5mentalhealth.com/event/wellness-in-the-woods-virtual-peer-support-network-8/2025-07-27/
LOCATION:MN
END:VEVENT
BEGIN:VEVENT
DTSTART;TZID=America/Chicago:20250728T090000
DTEND;TZID=America/Chicago:20250728T160000
DTSTAMP:20260420T182631
CREATED:20250702T164026Z
LAST-MODIFIED:20250702T164026Z
UID:10020266-1753693200-1753718400@www.region5mentalhealth.com
SUMMARY:Morrison County Drop-in Center
DESCRIPTION:Morrison County Drop-in Center has daily activities open to the public Monday-Friday from 9:00am- 4:00pm. \nVisit the Drop-in Center at 120 E. Broadway\, Little Falls\, MN 56345 \nPlease click this link to get to the July 2025 Calendar \nReach out to Pam at pama@orhwv.com for any questions.
URL:https://www.region5mentalhealth.com/event/morrison-county-drop-in-center-15/2025-07-28/
LOCATION:Morrison County Drop-in Center\, 120 E. Broadway\, Little Falls\, Minnesota\, 56345
END:VEVENT
BEGIN:VEVENT
DTSTART;TZID=America/Chicago:20250728T090000
DTEND;TZID=America/Chicago:20250728T170000
DTSTAMP:20260420T182631
CREATED:20241023T010307Z
LAST-MODIFIED:20241023T010430Z
UID:10019534-1753693200-1753722000@www.region5mentalhealth.com
SUMMARY:Wellness in the Woods- Virtual Peer Support Network
DESCRIPTION:Check out Wellness in the Woods Virtual Peer Support Network. Available daily 9:00am-5:00pm. \nTo join go to Wellness in the Woods website: www.mnwitw.org\nUser Zoom ID: 439 275 1585 \nPlease visit the Wellness in the Woods website for calendar events.
URL:https://www.region5mentalhealth.com/event/wellness-in-the-woods-virtual-peer-support-network-8/2025-07-28/
LOCATION:MN
END:VEVENT
END:VCALENDAR