BEGIN:VCALENDAR
VERSION:2.0
PRODID:-//Region 5+ Mental Health - ECPv6.15.20//NONSGML v1.0//EN
CALSCALE:GREGORIAN
METHOD:PUBLISH
X-WR-CALNAME:Region 5+ Mental Health
X-ORIGINAL-URL:https://www.region5mentalhealth.com
X-WR-CALDESC:Events for Region 5+ Mental Health
REFRESH-INTERVAL;VALUE=DURATION:PT1H
X-Robots-Tag:noindex
X-PUBLISHED-TTL:PT1H
BEGIN:VTIMEZONE
TZID:America/Chicago
BEGIN:DAYLIGHT
TZOFFSETFROM:-0600
TZOFFSETTO:-0500
TZNAME:CDT
DTSTART:20250309T080000
END:DAYLIGHT
BEGIN:STANDARD
TZOFFSETFROM:-0500
TZOFFSETTO:-0600
TZNAME:CST
DTSTART:20251102T070000
END:STANDARD
BEGIN:DAYLIGHT
TZOFFSETFROM:-0600
TZOFFSETTO:-0500
TZNAME:CDT
DTSTART:20260308T080000
END:DAYLIGHT
BEGIN:STANDARD
TZOFFSETFROM:-0500
TZOFFSETTO:-0600
TZNAME:CST
DTSTART:20261101T070000
END:STANDARD
BEGIN:DAYLIGHT
TZOFFSETFROM:-0600
TZOFFSETTO:-0500
TZNAME:CDT
DTSTART:20270314T080000
END:DAYLIGHT
BEGIN:STANDARD
TZOFFSETFROM:-0500
TZOFFSETTO:-0600
TZNAME:CST
DTSTART:20271107T070000
END:STANDARD
END:VTIMEZONE
BEGIN:VEVENT
DTSTART;TZID=America/Chicago:20260423T090000
DTEND;TZID=America/Chicago:20260423T160000
DTSTAMP:20260423T020446
CREATED:20260330T175330Z
LAST-MODIFIED:20260330T175330Z
UID:10020964-1776934800-1776960000@www.region5mentalhealth.com
SUMMARY:Morrison County Drop-in Center
DESCRIPTION:Morrison County Drop-in Center has daily activities open to the public Monday-Friday from 9:00am- 4:00pm. \nVisit the Drop-in Center at 120 E. Broadway\, Little Falls\, MN 56345 \nPlease click this link to get to the April 2026 Calendar (Peer) \nApril 2026 News Letter \nReach out to Pam at pama@orhwv.com for any questions. \n 
URL:https://www.region5mentalhealth.com/event/morrison-county-drop-in-center-23/2026-04-23/
LOCATION:Morrison County Drop-in Center\, 120 E. Broadway\, Little Falls\, Minnesota\, 56345
END:VEVENT
BEGIN:VEVENT
DTSTART;TZID=America/Chicago:20260423T170000
DTEND;TZID=America/Chicago:20260423T193000
DTSTAMP:20260423T020446
CREATED:20260414T140659Z
LAST-MODIFIED:20260414T140723Z
UID:10020970-1776963600-1776972600@www.region5mentalhealth.com
SUMMARY:First Annual Second Chance Gathering
DESCRIPTION:The event will feature a keynote speaker\, panel discussions\, community resource tables\, door prizes\, a light dinner and $3 bottomless soda. \nAs sensitive topics will be discussed\, the event is recommended for ages 12 and up. \nThose planning to attend should RSVP online at SecondChanceGathering.
URL:https://www.region5mentalhealth.com/event/first-annual-second-chance-gathering/
LOCATION:B Merri Event Center\, 19624 CO Rd 3\, Brainerd\, MN\, 56401\, United States
END:VEVENT
END:VCALENDAR