BEGIN:VCALENDAR
VERSION:2.0
PRODID:-//Region 5+ Mental Health - ECPv6.15.20//NONSGML v1.0//EN
CALSCALE:GREGORIAN
METHOD:PUBLISH
X-WR-CALNAME:Region 5+ Mental Health
X-ORIGINAL-URL:https://www.region5mentalhealth.com
X-WR-CALDESC:Events for Region 5+ Mental Health
REFRESH-INTERVAL;VALUE=DURATION:PT1H
X-Robots-Tag:noindex
X-PUBLISHED-TTL:PT1H
BEGIN:VTIMEZONE
TZID:America/Chicago
BEGIN:DAYLIGHT
TZOFFSETFROM:-0600
TZOFFSETTO:-0500
TZNAME:CDT
DTSTART:20240310T080000
END:DAYLIGHT
BEGIN:STANDARD
TZOFFSETFROM:-0500
TZOFFSETTO:-0600
TZNAME:CST
DTSTART:20241103T070000
END:STANDARD
BEGIN:DAYLIGHT
TZOFFSETFROM:-0600
TZOFFSETTO:-0500
TZNAME:CDT
DTSTART:20250309T080000
END:DAYLIGHT
BEGIN:STANDARD
TZOFFSETFROM:-0500
TZOFFSETTO:-0600
TZNAME:CST
DTSTART:20251102T070000
END:STANDARD
BEGIN:DAYLIGHT
TZOFFSETFROM:-0600
TZOFFSETTO:-0500
TZNAME:CDT
DTSTART:20260308T080000
END:DAYLIGHT
BEGIN:STANDARD
TZOFFSETFROM:-0500
TZOFFSETTO:-0600
TZNAME:CST
DTSTART:20261101T070000
END:STANDARD
END:VTIMEZONE
BEGIN:VEVENT
DTSTART;TZID=America/Chicago:20251209T090000
DTEND;TZID=America/Chicago:20251209T160000
DTSTAMP:20260420T084144
CREATED:20251204T144046Z
LAST-MODIFIED:20251204T192506Z
UID:10020836-1765270800-1765296000@www.region5mentalhealth.com
SUMMARY:Morrison County Drop-in Center
DESCRIPTION:Morrison County Drop-in Center has daily activities open to the public Monday-Friday from 9:00am- 4:00pm. \nVisit the Drop-in Center at 120 E. Broadway\, Little Falls\, MN 56345 \nPlease click this link to get to the December 2025 calendar \nReach out to Pam at pama@orhwv.com for any questions.
URL:https://www.region5mentalhealth.com/event/morrison-county-drop-in-center-20/2025-12-09/
LOCATION:Morrison County Drop-in Center\, 120 E. Broadway\, Little Falls\, Minnesota\, 56345
END:VEVENT
BEGIN:VEVENT
DTSTART;TZID=America/Chicago:20251209T141500
DTEND;TZID=America/Chicago:20251209T151500
DTSTAMP:20260420T084144
CREATED:20250213T143624Z
LAST-MODIFIED:20250213T144032Z
UID:10020115-1765289700-1765293300@www.region5mentalhealth.com
SUMMARY:Morrison County Local Advisory Council Meeting
DESCRIPTION:Second Tuesday of even months \n2:15pm \nVirtually only via Microsoft Teams \n 
URL:https://www.region5mentalhealth.com/event/morrison-county-local-advisory-council-meeting-2/2025-12-09/
LOCATION:https://teams.microsoft.com/l/meetup-join/19%3ameeting_MGUzZjI5MGQtYThiYi00ODdlLWE5ZmMtOTdkYjRjZDUyYjEx%40thread.v2/0?context=%7b%22Tid%22%3a%227945f05f-61f8-4105-9a8d-d63bb2e42646%22%2c%22Oid%22%3a%22f4b15fac-d9b4-41ce-a337-df50a91ef48a%22%7d
END:VEVENT
BEGIN:VEVENT
DTSTART;TZID=America/Chicago:20251209T180000
DTEND;TZID=America/Chicago:20251209T190000
DTSTAMP:20260420T084144
CREATED:20251021T184107Z
LAST-MODIFIED:20251021T184134Z
UID:10020808-1765303200-1765306800@www.region5mentalhealth.com
SUMMARY:Healing In The Valley: A Virtual Grief Support Group
DESCRIPTION:Virtual Grief Support Group \nWhen: Tuesdays at 6:00pm-7:00pm starting September 2\, 2025 \nWhere: Virtual on Zoom https://zoom.us/j/4392751585?omn=92615445411#success \nAdults who have lost loved ones are invited to gather weekly to share tears\, hope\, and compassion in a safe and supportive space. \nThis is a free\, drop-in peer support group – open to all and no registration required. \nHealing In The Valley
URL:https://www.region5mentalhealth.com/event/healing-in-the-valley-a-virtual-grief-support-group/2025-12-09/
LOCATION:https://zoom.us/j/4392751585?omn=92615445411#success
END:VEVENT
END:VCALENDAR