BEGIN:VCALENDAR
VERSION:2.0
PRODID:-//Region 5+ Mental Health - ECPv6.15.20//NONSGML v1.0//EN
CALSCALE:GREGORIAN
METHOD:PUBLISH
X-WR-CALNAME:Region 5+ Mental Health
X-ORIGINAL-URL:https://www.region5mentalhealth.com
X-WR-CALDESC:Events for Region 5+ Mental Health
REFRESH-INTERVAL;VALUE=DURATION:PT1H
X-Robots-Tag:noindex
X-PUBLISHED-TTL:PT1H
BEGIN:VTIMEZONE
TZID:America/Chicago
BEGIN:DAYLIGHT
TZOFFSETFROM:-0600
TZOFFSETTO:-0500
TZNAME:CDT
DTSTART:20240310T080000
END:DAYLIGHT
BEGIN:STANDARD
TZOFFSETFROM:-0500
TZOFFSETTO:-0600
TZNAME:CST
DTSTART:20241103T070000
END:STANDARD
BEGIN:DAYLIGHT
TZOFFSETFROM:-0600
TZOFFSETTO:-0500
TZNAME:CDT
DTSTART:20250309T080000
END:DAYLIGHT
BEGIN:STANDARD
TZOFFSETFROM:-0500
TZOFFSETTO:-0600
TZNAME:CST
DTSTART:20251102T070000
END:STANDARD
BEGIN:DAYLIGHT
TZOFFSETFROM:-0600
TZOFFSETTO:-0500
TZNAME:CDT
DTSTART:20260308T080000
END:DAYLIGHT
BEGIN:STANDARD
TZOFFSETFROM:-0500
TZOFFSETTO:-0600
TZNAME:CST
DTSTART:20261101T070000
END:STANDARD
END:VTIMEZONE
BEGIN:VEVENT
DTSTART;TZID=America/Chicago:20251118T090000
DTEND;TZID=America/Chicago:20251118T160000
DTSTAMP:20260418T142613
CREATED:20251106T135706Z
LAST-MODIFIED:20251106T140912Z
UID:10020822-1763456400-1763481600@www.region5mentalhealth.com
SUMMARY:Morrison County Drop-in Center
DESCRIPTION:Morrison County Drop-in Center has daily activities open to the public Monday-Friday from 9:00am- 4:00pm. \nVisit the Drop-in Center at 120 E. Broadway\, Little Falls\, MN 56345 \nPlease click this link to get to the November 2025 calendar \nReach out to Pam at pama@orhwv.com for any questions. \nNovember 2025 News Letter
URL:https://www.region5mentalhealth.com/event/morrison-county-drop-in-center-19/2025-11-18/
LOCATION:Morrison County Drop-in Center\, 120 E. Broadway\, Little Falls\, Minnesota\, 56345
END:VEVENT
BEGIN:VEVENT
DTSTART;TZID=America/Chicago:20251118T173000
DTEND;TZID=America/Chicago:20251118T193000
DTSTAMP:20260418T142613
CREATED:20251028T141012Z
LAST-MODIFIED:20251028T141012Z
UID:10020812-1763487000-1763494200@www.region5mentalhealth.com
SUMMARY:Stress & The Brain:  Raising Resilient Kids Event
DESCRIPTION:You are cordially invited to join for a complimentary supper and an engaging presentation by guest speaker Erin Walsh on “Stress & The Brain: Raising Resilient Kids.” \nAll are welcome to this free event. \nPrizes available. \nChild care available. \nStress & The Brain Flyer 2025
URL:https://www.region5mentalhealth.com/event/stress-the-brain-raising-resilient-kids-event/
LOCATION:Faith Lutheran Church\, 430 12th St NE\, Staples\, MN\, 56479\, United States
END:VEVENT
BEGIN:VEVENT
DTSTART;TZID=America/Chicago:20251118T180000
DTEND;TZID=America/Chicago:20251118T190000
DTSTAMP:20260418T142613
CREATED:20251021T184107Z
LAST-MODIFIED:20251021T184134Z
UID:10020805-1763488800-1763492400@www.region5mentalhealth.com
SUMMARY:Healing In The Valley: A Virtual Grief Support Group
DESCRIPTION:Virtual Grief Support Group \nWhen: Tuesdays at 6:00pm-7:00pm starting September 2\, 2025 \nWhere: Virtual on Zoom https://zoom.us/j/4392751585?omn=92615445411#success \nAdults who have lost loved ones are invited to gather weekly to share tears\, hope\, and compassion in a safe and supportive space. \nThis is a free\, drop-in peer support group – open to all and no registration required. \nHealing In The Valley
URL:https://www.region5mentalhealth.com/event/healing-in-the-valley-a-virtual-grief-support-group/2025-11-18/
LOCATION:https://zoom.us/j/4392751585?omn=92615445411#success
END:VEVENT
END:VCALENDAR