BEGIN:VCALENDAR
VERSION:2.0
PRODID:-//Region 5+ Mental Health - ECPv6.15.20//NONSGML v1.0//EN
CALSCALE:GREGORIAN
METHOD:PUBLISH
X-ORIGINAL-URL:https://www.region5mentalhealth.com
X-WR-CALDESC:Events for Region 5+ Mental Health
REFRESH-INTERVAL;VALUE=DURATION:PT1H
X-Robots-Tag:noindex
X-PUBLISHED-TTL:PT1H
BEGIN:VTIMEZONE
TZID:America/Chicago
BEGIN:DAYLIGHT
TZOFFSETFROM:-0600
TZOFFSETTO:-0500
TZNAME:CDT
DTSTART:20240310T080000
END:DAYLIGHT
BEGIN:STANDARD
TZOFFSETFROM:-0500
TZOFFSETTO:-0600
TZNAME:CST
DTSTART:20241103T070000
END:STANDARD
BEGIN:DAYLIGHT
TZOFFSETFROM:-0600
TZOFFSETTO:-0500
TZNAME:CDT
DTSTART:20250309T080000
END:DAYLIGHT
BEGIN:STANDARD
TZOFFSETFROM:-0500
TZOFFSETTO:-0600
TZNAME:CST
DTSTART:20251102T070000
END:STANDARD
BEGIN:DAYLIGHT
TZOFFSETFROM:-0600
TZOFFSETTO:-0500
TZNAME:CDT
DTSTART:20260308T080000
END:DAYLIGHT
BEGIN:STANDARD
TZOFFSETFROM:-0500
TZOFFSETTO:-0600
TZNAME:CST
DTSTART:20261101T070000
END:STANDARD
END:VTIMEZONE
BEGIN:VEVENT
DTSTART;TZID=America/Chicago:20251011T090000
DTEND;TZID=America/Chicago:20251011T130000
DTSTAMP:20260420T085613
CREATED:20250910T132156Z
LAST-MODIFIED:20250910T132156Z
UID:10020774-1760173200-1760187600@www.region5mentalhealth.com
SUMMARY:Annual Clothing Giveaway at Lord of Life Lutheran Church - Shopping Dates
DESCRIPTION:Shopping Dates and Times: \nThursday\, October 9\, 9:00am–7:00pm \nFriday\, October 10\, 9:00am–7:00pm \nSaturday\, October 11\, 9:00am–1:00pm \nACGFLYER2025
URL:https://www.region5mentalhealth.com/event/annual-clothing-giveaway-at-lord-of-life-lutheran-church-shopping-dates-2/
LOCATION:Lord of Life Lutheran Church\, 6190 Fairview Rd N\, Baxter\, MN\, 56425\, United States
END:VEVENT
END:VCALENDAR