BEGIN:VCALENDAR
VERSION:2.0
PRODID:-//Region 5+ Mental Health - ECPv6.15.20//NONSGML v1.0//EN
CALSCALE:GREGORIAN
METHOD:PUBLISH
X-WR-CALNAME:Region 5+ Mental Health
X-ORIGINAL-URL:https://www.region5mentalhealth.com
X-WR-CALDESC:Events for Region 5+ Mental Health
REFRESH-INTERVAL;VALUE=DURATION:PT1H
X-Robots-Tag:noindex
X-PUBLISHED-TTL:PT1H
BEGIN:VTIMEZONE
TZID:America/Chicago
BEGIN:DAYLIGHT
TZOFFSETFROM:-0600
TZOFFSETTO:-0500
TZNAME:CDT
DTSTART:20240310T080000
END:DAYLIGHT
BEGIN:STANDARD
TZOFFSETFROM:-0500
TZOFFSETTO:-0600
TZNAME:CST
DTSTART:20241103T070000
END:STANDARD
BEGIN:DAYLIGHT
TZOFFSETFROM:-0600
TZOFFSETTO:-0500
TZNAME:CDT
DTSTART:20250309T080000
END:DAYLIGHT
BEGIN:STANDARD
TZOFFSETFROM:-0500
TZOFFSETTO:-0600
TZNAME:CST
DTSTART:20251102T070000
END:STANDARD
BEGIN:DAYLIGHT
TZOFFSETFROM:-0600
TZOFFSETTO:-0500
TZNAME:CDT
DTSTART:20260308T080000
END:DAYLIGHT
BEGIN:STANDARD
TZOFFSETFROM:-0500
TZOFFSETTO:-0600
TZNAME:CST
DTSTART:20261101T070000
END:STANDARD
END:VTIMEZONE
BEGIN:VEVENT
DTSTART;TZID=America/Chicago:20251010T090000
DTEND;TZID=America/Chicago:20251010T160000
DTSTAMP:20260419T193451
CREATED:20250930T160128Z
LAST-MODIFIED:20250930T160128Z
UID:10020785-1760086800-1760112000@www.region5mentalhealth.com
SUMMARY:Morrison County Drop-in Center
DESCRIPTION:Morrison County Drop-in Center has daily activities open to the public Monday-Friday from 9:00am- 4:00pm. \nVisit the Drop-in Center at 120 E. Broadway\, Little Falls\, MN 56345 \nPlease click this link to get to the October 2025 calendar \nReach out to Pam at pama@orhwv.com for any questions.
URL:https://www.region5mentalhealth.com/event/morrison-county-drop-in-center-18/2025-10-10/
LOCATION:Morrison County Drop-in Center\, 120 E. Broadway\, Little Falls\, Minnesota\, 56345
END:VEVENT
BEGIN:VEVENT
DTSTART;TZID=America/Chicago:20251010T090000
DTEND;TZID=America/Chicago:20251010T190000
DTSTAMP:20260419T193451
CREATED:20250910T132033Z
LAST-MODIFIED:20250910T132033Z
UID:10020773-1760086800-1760122800@www.region5mentalhealth.com
SUMMARY:Annual Clothing Giveaway at Lord of Life Lutheran Church - Shopping Dates
DESCRIPTION:Shopping Dates and Times: \nThursday\, October 9\, 9:00am–7:00pm \nFriday\, October 10\, 9:00am–7:00pm \nSaturday\, October 11\, 9:00am–1:00pm \nACGFLYER2025
URL:https://www.region5mentalhealth.com/event/annual-clothing-giveaway-at-lord-of-life-lutheran-church-shopping-dates/2025-10-10/
LOCATION:Lord of Life Lutheran Church\, 6190 Fairview Rd N\, Baxter\, MN\, 56425\, United States
END:VEVENT
END:VCALENDAR