BEGIN:VCALENDAR
VERSION:2.0
PRODID:-//Region 5+ Mental Health - ECPv6.15.20//NONSGML v1.0//EN
CALSCALE:GREGORIAN
METHOD:PUBLISH
X-WR-CALNAME:Region 5+ Mental Health
X-ORIGINAL-URL:https://www.region5mentalhealth.com
X-WR-CALDESC:Events for Region 5+ Mental Health
REFRESH-INTERVAL;VALUE=DURATION:PT1H
X-Robots-Tag:noindex
X-PUBLISHED-TTL:PT1H
BEGIN:VTIMEZONE
TZID:America/Chicago
BEGIN:DAYLIGHT
TZOFFSETFROM:-0600
TZOFFSETTO:-0500
TZNAME:CDT
DTSTART:20240310T080000
END:DAYLIGHT
BEGIN:STANDARD
TZOFFSETFROM:-0500
TZOFFSETTO:-0600
TZNAME:CST
DTSTART:20241103T070000
END:STANDARD
BEGIN:DAYLIGHT
TZOFFSETFROM:-0600
TZOFFSETTO:-0500
TZNAME:CDT
DTSTART:20250309T080000
END:DAYLIGHT
BEGIN:STANDARD
TZOFFSETFROM:-0500
TZOFFSETTO:-0600
TZNAME:CST
DTSTART:20251102T070000
END:STANDARD
BEGIN:DAYLIGHT
TZOFFSETFROM:-0600
TZOFFSETTO:-0500
TZNAME:CDT
DTSTART:20260308T080000
END:DAYLIGHT
BEGIN:STANDARD
TZOFFSETFROM:-0500
TZOFFSETTO:-0600
TZNAME:CST
DTSTART:20261101T070000
END:STANDARD
END:VTIMEZONE
BEGIN:VEVENT
DTSTART;TZID=America/Chicago:20251008T090000
DTEND;TZID=America/Chicago:20251008T160000
DTSTAMP:20260420T101817
CREATED:20250930T160128Z
LAST-MODIFIED:20250930T160128Z
UID:10020783-1759914000-1759939200@www.region5mentalhealth.com
SUMMARY:Morrison County Drop-in Center
DESCRIPTION:Morrison County Drop-in Center has daily activities open to the public Monday-Friday from 9:00am- 4:00pm. \nVisit the Drop-in Center at 120 E. Broadway\, Little Falls\, MN 56345 \nPlease click this link to get to the October 2025 calendar \nReach out to Pam at pama@orhwv.com for any questions.
URL:https://www.region5mentalhealth.com/event/morrison-county-drop-in-center-18/2025-10-08/
LOCATION:Morrison County Drop-in Center\, 120 E. Broadway\, Little Falls\, Minnesota\, 56345
END:VEVENT
BEGIN:VEVENT
DTSTART;TZID=America/Chicago:20251008T090000
DTEND;TZID=America/Chicago:20251008T190000
DTSTAMP:20260420T101817
CREATED:20250910T131730Z
LAST-MODIFIED:20250910T131730Z
UID:10020771-1759914000-1759950000@www.region5mentalhealth.com
SUMMARY:Annual Clothing Giveaway at Lord of Life Lutheran Church - Donation Dates
DESCRIPTION:Donate Children’s\, Men’s\, Women’s clothing & shoes: \nSunday\, October 5\, 9:00am–12:00pm \nMonday – Wednesday\, October 6\, 7\, 8\,  9:00am–7:00pm \nDonated goods need to be clean with no spots\, tears or animal hair. Please bring to the East door at Lord of Life.     THANK YOU! \nACGFLYER2025
URL:https://www.region5mentalhealth.com/event/annual-clothing-giveaway-at-lord-of-life-lutheran-church-donation-dates-2/2025-10-08/
LOCATION:Lord of Life Lutheran Church\, 6190 Fairview Rd N\, Baxter\, MN\, 56425\, United States
END:VEVENT
BEGIN:VEVENT
DTSTART;TZID=America/Chicago:20251008T113000
DTEND;TZID=America/Chicago:20251008T133000
DTSTAMP:20260420T101817
CREATED:20250722T130353Z
LAST-MODIFIED:20250722T130353Z
UID:10020640-1759923000-1759930200@www.region5mentalhealth.com
SUMMARY:Crow Wing Energized Lunch Tour
DESCRIPTION:All Aboard!\nJoin one of our FREE Lunch Tours and learn more about:\n• Community Health Needs Assessment (CHNA)\n• Crow Wing Energized Strategies\n• Make it OK\n• Adverse Childhood Experiences (ACEs)\nAll while you enjoy lunch! \nAll sessions will run from 11:30-1:30 and offer the same program. Lunch will be provided – REGISTRATION REQUIRED to reserve a meal. \n*To register scan the QR code on the attached flyer or visit Crow Wing Energized Lunch Tour-Crosslake – Crow Wing Energized \nLunch Tour Flyer
URL:https://www.region5mentalhealth.com/event/crow-wing-energized-lunch-tour-4/
LOCATION:Nisswa Community Center\, 25628 Main St\, Nisswa\, MN\, 56468\, United States
END:VEVENT
BEGIN:VEVENT
DTSTART;TZID=America/Chicago:20251008T120000
DTEND;TZID=America/Chicago:20251008T133000
DTSTAMP:20260420T101817
CREATED:20241023T011555Z
LAST-MODIFIED:20241023T011555Z
UID:10019641-1759924800-1759930200@www.region5mentalhealth.com
SUMMARY:Connect Effect
DESCRIPTION:STAY CONNECTED \nClick here for more information.
URL:https://www.region5mentalhealth.com/event/connect-effect/2025-10-08/
LOCATION:MN
END:VEVENT
END:VCALENDAR