BEGIN:VCALENDAR
VERSION:2.0
PRODID:-//Region 5+ Mental Health - ECPv6.15.20//NONSGML v1.0//EN
CALSCALE:GREGORIAN
METHOD:PUBLISH
X-WR-CALNAME:Region 5+ Mental Health
X-ORIGINAL-URL:https://www.region5mentalhealth.com
X-WR-CALDESC:Events for Region 5+ Mental Health
REFRESH-INTERVAL;VALUE=DURATION:PT1H
X-Robots-Tag:noindex
X-PUBLISHED-TTL:PT1H
BEGIN:VTIMEZONE
TZID:America/Chicago
BEGIN:DAYLIGHT
TZOFFSETFROM:-0600
TZOFFSETTO:-0500
TZNAME:CDT
DTSTART:20240310T080000
END:DAYLIGHT
BEGIN:STANDARD
TZOFFSETFROM:-0500
TZOFFSETTO:-0600
TZNAME:CST
DTSTART:20241103T070000
END:STANDARD
BEGIN:DAYLIGHT
TZOFFSETFROM:-0600
TZOFFSETTO:-0500
TZNAME:CDT
DTSTART:20250309T080000
END:DAYLIGHT
BEGIN:STANDARD
TZOFFSETFROM:-0500
TZOFFSETTO:-0600
TZNAME:CST
DTSTART:20251102T070000
END:STANDARD
BEGIN:DAYLIGHT
TZOFFSETFROM:-0600
TZOFFSETTO:-0500
TZNAME:CDT
DTSTART:20260308T080000
END:DAYLIGHT
BEGIN:STANDARD
TZOFFSETFROM:-0500
TZOFFSETTO:-0600
TZNAME:CST
DTSTART:20261101T070000
END:STANDARD
END:VTIMEZONE
BEGIN:VEVENT
DTSTART;TZID=America/Chicago:20250925T090000
DTEND;TZID=America/Chicago:20250925T160000
DTSTAMP:20260420T114951
CREATED:20250828T161809Z
LAST-MODIFIED:20250828T161809Z
UID:10020764-1758790800-1758816000@www.region5mentalhealth.com
SUMMARY:Morrison County Drop-in Center
DESCRIPTION:Morrison County Drop-in Center has daily activities open to the public Monday-Friday from 9:00am- 4:00pm. \nVisit the Drop-in Center at 120 E. Broadway\, Little Falls\, MN 56345 \nPlease click this link to get to the September 2025 calendar \nReach out to Pam at pama@orhwv.com for any questions. \n 
URL:https://www.region5mentalhealth.com/event/morrison-county-drop-in-center-17/2025-09-25/
LOCATION:Morrison County Drop-in Center\, 120 E. Broadway\, Little Falls\, Minnesota\, 56345
END:VEVENT
BEGIN:VEVENT
DTSTART;TZID=America/Chicago:20250925T093000
DTEND;TZID=America/Chicago:20250925T133000
DTSTAMP:20260420T114951
CREATED:20250707T190740Z
LAST-MODIFIED:20250707T190920Z
UID:10020635-1758792600-1758807000@www.region5mentalhealth.com
SUMMARY:Together is Better: 2025 Wellness in the Woods Conference
DESCRIPTION:Healing happens in community.\nThat’s the heart behind this year’s theme: Together is Better.Join us for two powerful days of connection\, creativity\, and courageous conversations — all centered around mental health\, peer support\, and whole-person wellness.\n\nWhat to Expect\n Day 1: Virtual KickoffThursday\, Sept. 25 | 9:30 AM–1:00 PM CTJoin us online for inspiring talks\, breakout sessions\, and community connection — all from the comfort of your own space.\n Day 2: Hybrid GatheringFriday\, Sept. 26 | 9:45 AM–4:30 PM CTIn person at Sourcewell in Staples\, MN or attend virtually.Workshops\, panels\, peer-led sessions\, music\, and more — designed to uplift\, inform\, and connect.\n\nWho It’s For\nPeers. Advocates. Providers. Caregivers. Community leaders. Curious humans.In other words: you.\n\nFeatured Voices\n Diana Babcock on creative healing Monica Yeadon on compassion beyond “good” and “bad” Sierra Grandy on leading with lived experience Laura Sutherland on transforming mental health systems Sara Stamschror-Lott on liberation and equity in therapy Max Blake with a meditative Native flute session + more to be announced\n\nWhether you’re passionate about mental health\, community care\, or simply seeking connection\, this conference is about coming together to feel seen\, supported\, and inspired.\nLet’s gather. Let’s grow.\n\nTogether is Better: 2025 Wellness in the Woods Conference | Facebook\nConferenceRegistrationHowTo
URL:https://www.region5mentalhealth.com/event/together-is-better-2025-wellness-in-the-woods-conference/
LOCATION:
END:VEVENT
END:VCALENDAR