BEGIN:VCALENDAR
VERSION:2.0
PRODID:-//Region 5+ Mental Health - ECPv6.15.20//NONSGML v1.0//EN
CALSCALE:GREGORIAN
METHOD:PUBLISH
X-WR-CALNAME:Region 5+ Mental Health
X-ORIGINAL-URL:https://www.region5mentalhealth.com
X-WR-CALDESC:Events for Region 5+ Mental Health
REFRESH-INTERVAL;VALUE=DURATION:PT1H
X-Robots-Tag:noindex
X-PUBLISHED-TTL:PT1H
BEGIN:VTIMEZONE
TZID:America/Chicago
BEGIN:DAYLIGHT
TZOFFSETFROM:-0600
TZOFFSETTO:-0500
TZNAME:CDT
DTSTART:20240310T080000
END:DAYLIGHT
BEGIN:STANDARD
TZOFFSETFROM:-0500
TZOFFSETTO:-0600
TZNAME:CST
DTSTART:20241103T070000
END:STANDARD
BEGIN:DAYLIGHT
TZOFFSETFROM:-0600
TZOFFSETTO:-0500
TZNAME:CDT
DTSTART:20250309T080000
END:DAYLIGHT
BEGIN:STANDARD
TZOFFSETFROM:-0500
TZOFFSETTO:-0600
TZNAME:CST
DTSTART:20251102T070000
END:STANDARD
BEGIN:DAYLIGHT
TZOFFSETFROM:-0600
TZOFFSETTO:-0500
TZNAME:CDT
DTSTART:20260308T080000
END:DAYLIGHT
BEGIN:STANDARD
TZOFFSETFROM:-0500
TZOFFSETTO:-0600
TZNAME:CST
DTSTART:20261101T070000
END:STANDARD
END:VTIMEZONE
BEGIN:VEVENT
DTSTART;TZID=America/Chicago:20250909T090000
DTEND;TZID=America/Chicago:20250909T160000
DTSTAMP:20260420T062319
CREATED:20250828T161809Z
LAST-MODIFIED:20250828T161809Z
UID:10020752-1757408400-1757433600@www.region5mentalhealth.com
SUMMARY:Morrison County Drop-in Center
DESCRIPTION:Morrison County Drop-in Center has daily activities open to the public Monday-Friday from 9:00am- 4:00pm. \nVisit the Drop-in Center at 120 E. Broadway\, Little Falls\, MN 56345 \nPlease click this link to get to the September 2025 calendar \nReach out to Pam at pama@orhwv.com for any questions. \n 
URL:https://www.region5mentalhealth.com/event/morrison-county-drop-in-center-17/2025-09-09/
LOCATION:Morrison County Drop-in Center\, 120 E. Broadway\, Little Falls\, Minnesota\, 56345
END:VEVENT
BEGIN:VEVENT
DTSTART;TZID=America/Chicago:20250909T120000
DTEND;TZID=America/Chicago:20250909T133000
DTSTAMP:20260420T062319
CREATED:20241023T011555Z
LAST-MODIFIED:20241023T011555Z
UID:10019632-1757419200-1757424600@www.region5mentalhealth.com
SUMMARY:Connect Effect
DESCRIPTION:STAY CONNECTED \nClick here for more information.
URL:https://www.region5mentalhealth.com/event/connect-effect/2025-09-09/
LOCATION:MN
END:VEVENT
BEGIN:VEVENT
DTSTART;TZID=America/Chicago:20250909T140000
DTEND;TZID=America/Chicago:20250909T150000
DTSTAMP:20260420T062319
CREATED:20250131T173136Z
LAST-MODIFIED:20250131T173136Z
UID:10020071-1757426400-1757430000@www.region5mentalhealth.com
SUMMARY:Aitkin County Local Advisory Council Meeting
DESCRIPTION:Second Tuesday of every other month \n2:00-3:00pm \nHybrid: Virtual via Microsoft Teams (link below) \nIn-person at Petals of Peace Drop-in Center \nVirtual Microsoft Teams Link: Join the meeting now
URL:https://www.region5mentalhealth.com/event/aitkin-county-local-advisory-council-meeting/2025-09-09/
LOCATION:Petals of Peach Drop-in Center\, 209 Minnesota Ave N\, Aitkin\, MN\, 56431\, United States
END:VEVENT
END:VCALENDAR