BEGIN:VCALENDAR
VERSION:2.0
PRODID:-//Region 5+ Mental Health - ECPv6.15.20//NONSGML v1.0//EN
CALSCALE:GREGORIAN
METHOD:PUBLISH
X-WR-CALNAME:Region 5+ Mental Health
X-ORIGINAL-URL:https://www.region5mentalhealth.com
X-WR-CALDESC:Events for Region 5+ Mental Health
REFRESH-INTERVAL;VALUE=DURATION:PT1H
X-Robots-Tag:noindex
X-PUBLISHED-TTL:PT1H
BEGIN:VTIMEZONE
TZID:America/Chicago
BEGIN:DAYLIGHT
TZOFFSETFROM:-0600
TZOFFSETTO:-0500
TZNAME:CDT
DTSTART:20240310T080000
END:DAYLIGHT
BEGIN:STANDARD
TZOFFSETFROM:-0500
TZOFFSETTO:-0600
TZNAME:CST
DTSTART:20241103T070000
END:STANDARD
BEGIN:DAYLIGHT
TZOFFSETFROM:-0600
TZOFFSETTO:-0500
TZNAME:CDT
DTSTART:20250309T080000
END:DAYLIGHT
BEGIN:STANDARD
TZOFFSETFROM:-0500
TZOFFSETTO:-0600
TZNAME:CST
DTSTART:20251102T070000
END:STANDARD
BEGIN:DAYLIGHT
TZOFFSETFROM:-0600
TZOFFSETTO:-0500
TZNAME:CDT
DTSTART:20260308T080000
END:DAYLIGHT
BEGIN:STANDARD
TZOFFSETFROM:-0500
TZOFFSETTO:-0600
TZNAME:CST
DTSTART:20261101T070000
END:STANDARD
END:VTIMEZONE
BEGIN:VEVENT
DTSTART;TZID=America/Chicago:20250827T090000
DTEND;TZID=America/Chicago:20250827T160000
DTSTAMP:20260420T153123
CREATED:20250731T130345Z
LAST-MODIFIED:20250731T130539Z
UID:10020659-1756285200-1756310400@www.region5mentalhealth.com
SUMMARY:Morrison County Drop-in Center
DESCRIPTION:Morrison County Drop-in Center has daily activities open to the public Monday-Friday from 9:00am- 4:00pm. \nVisit the Drop-in Center at 120 E. Broadway\, Little Falls\, MN 56345 \nPlease click this link to get to the June 2025 Calendar (Peer) \nReach out to Pam at pama@orhwv.com for any questions. \nAugust 2025 Calendar
URL:https://www.region5mentalhealth.com/event/morrison-county-drop-in-center-16/2025-08-27/
LOCATION:Morrison County Drop-in Center\, 120 E. Broadway\, Little Falls\, Minnesota\, 56345
END:VEVENT
BEGIN:VEVENT
DTSTART;TZID=America/Chicago:20250827T120000
DTEND;TZID=America/Chicago:20250827T130000
DTSTAMP:20260420T153123
CREATED:20250819T160034Z
LAST-MODIFIED:20250819T160034Z
UID:10020739-1756296000-1756299600@www.region5mentalhealth.com
SUMMARY:Region 5+ Local Advisory Council (LAC) Workshop Virtual Follow-ups
DESCRIPTION:This is a free\, virtual workshop that is designed to be a follow-up to the May 21\, 2025\, Region 5+ Local Advisory Council (LAC) Workshop. \nWhere: Virtual (see Zoom information below) \nWhen: Part 1: Wednesday\, August 27th\, 12pm-1pm CT\, Part 2: Thursday\, November 20th\, 4pm-5pm CT. \nWhat to Expect: \n-Identify current strengths and opportunities for growth \n-Brainstorm action plans and practical next steps \n-Connect with others across Region 5+ doing similar work \nZoom Information: https://us06web.zoom.us/j/85431968216?pwd=zNhBB6SZ7exFFzkNFxL14Lb1HtOvuF.1 \nMeeting ID: 85431968216 \nPasscode: 781864 \n  \nLAC Region 5+ Workshop Follow Up Flyer WITW
URL:https://www.region5mentalhealth.com/event/region-5-local-advisory-council-lac-workshop-virtual-follow-ups/2025-08-27/
LOCATION:https://us06web.zoom.us/j/85431968216?pwd=zNhBB6SZ7exFFzkNFxL14Lb1HtOvuF.1
END:VEVENT
BEGIN:VEVENT
DTSTART;TZID=America/Chicago:20250827T120000
DTEND;TZID=America/Chicago:20250827T133000
DTSTAMP:20260420T153123
CREATED:20241023T011555Z
LAST-MODIFIED:20241023T011555Z
UID:10019629-1756296000-1756301400@www.region5mentalhealth.com
SUMMARY:Connect Effect
DESCRIPTION:STAY CONNECTED \nClick here for more information.
URL:https://www.region5mentalhealth.com/event/connect-effect/2025-08-27/
LOCATION:MN
END:VEVENT
END:VCALENDAR