BEGIN:VCALENDAR
VERSION:2.0
PRODID:-//Region 5+ Mental Health - ECPv6.15.20//NONSGML v1.0//EN
CALSCALE:GREGORIAN
METHOD:PUBLISH
X-WR-CALNAME:Region 5+ Mental Health
X-ORIGINAL-URL:https://www.region5mentalhealth.com
X-WR-CALDESC:Events for Region 5+ Mental Health
REFRESH-INTERVAL;VALUE=DURATION:PT1H
X-Robots-Tag:noindex
X-PUBLISHED-TTL:PT1H
BEGIN:VTIMEZONE
TZID:America/Chicago
BEGIN:DAYLIGHT
TZOFFSETFROM:-0600
TZOFFSETTO:-0500
TZNAME:CDT
DTSTART:20240310T080000
END:DAYLIGHT
BEGIN:STANDARD
TZOFFSETFROM:-0500
TZOFFSETTO:-0600
TZNAME:CST
DTSTART:20241103T070000
END:STANDARD
BEGIN:DAYLIGHT
TZOFFSETFROM:-0600
TZOFFSETTO:-0500
TZNAME:CDT
DTSTART:20250309T080000
END:DAYLIGHT
BEGIN:STANDARD
TZOFFSETFROM:-0500
TZOFFSETTO:-0600
TZNAME:CST
DTSTART:20251102T070000
END:STANDARD
BEGIN:DAYLIGHT
TZOFFSETFROM:-0600
TZOFFSETTO:-0500
TZNAME:CDT
DTSTART:20260308T080000
END:DAYLIGHT
BEGIN:STANDARD
TZOFFSETFROM:-0500
TZOFFSETTO:-0600
TZNAME:CST
DTSTART:20261101T070000
END:STANDARD
END:VTIMEZONE
BEGIN:VEVENT
DTSTART;TZID=America/Chicago:20250814T090000
DTEND;TZID=America/Chicago:20250814T160000
DTSTAMP:20260418T152952
CREATED:20250731T130345Z
LAST-MODIFIED:20250731T130539Z
UID:10020650-1755162000-1755187200@www.region5mentalhealth.com
SUMMARY:Morrison County Drop-in Center
DESCRIPTION:Morrison County Drop-in Center has daily activities open to the public Monday-Friday from 9:00am- 4:00pm. \nVisit the Drop-in Center at 120 E. Broadway\, Little Falls\, MN 56345 \nPlease click this link to get to the June 2025 Calendar (Peer) \nReach out to Pam at pama@orhwv.com for any questions. \nAugust 2025 Calendar
URL:https://www.region5mentalhealth.com/event/morrison-county-drop-in-center-16/2025-08-14/
LOCATION:Morrison County Drop-in Center\, 120 E. Broadway\, Little Falls\, Minnesota\, 56345
END:VEVENT
BEGIN:VEVENT
DTSTART;TZID=America/Chicago:20250814T150000
DTEND;TZID=America/Chicago:20250814T190000
DTSTAMP:20260418T152952
CREATED:20250617T195452Z
LAST-MODIFIED:20250617T195452Z
UID:10020246-1755183600-1755198000@www.region5mentalhealth.com
SUMMARY:2025 Miles for Smiles 5K
DESCRIPTION:Smiles for Jake is happy to announce the twelfth annual Miles for Smiles 5K. Runners\, walkers\, bikers welcome\, but if you don’t wish to race\, there will be outside activities\, like chalk\, beanbags and more! \nPlease register with the QR code on the attachment below. \n2025MilesforSmilesPost FINAL
URL:https://www.region5mentalhealth.com/event/2025-miles-for-smiles-5k/
LOCATION:Forestview Middle School\, 12149 Knollwood Dr\, Baxter\, MN\, 56425\, United States
END:VEVENT
END:VCALENDAR